BEGIN:VCALENDAR
VERSION:2.0
CALSCALE:GREGORIAN
PRODID:https://kalender.karlsruhe.de/db/termine/
METHOD:PUBLISH
BEGIN:VEVENT
UID:573512
ORGANIZER;CN=Die Spiegelfechter:MAILTO:info@spiegelfechter.de
LOCATION:Kabarett in der Orgelfabrik - die Spiegelfechter
SUMMARY:Die Puderdose - Weiberabend
DESCRIPTION;ENCODING=QUOTED-PRINTABLE:Und ewig lacht das Weib!=0D=0A=0D=0A  Wann habt Ihr das letzte Mal mit Euren M=C3
 =A4dels so richtig einen drauf gemacht? Schon wieder viel zu lange her? Dan
 n kommt zu unserem =E2=80=9EWeiberabend=E2=80=9C!  =0D=0A  Bei Wein\, Weib und G
 esang plaudert =E2=80=9EDie Puderdose=E2=80=9C aus dem N=C3=A4hk=C3=A4stche
 n und Victorias Secret bleibt nicht l=C3=A4nger ein Geheimnis. Wir\, die zwe
 i Busenfreundinnen mit Bums\, machen Kabarett mit Kopulationshintergrund\, si
 nd Prosecco nicht abgeneigt und wollen mit Euch lachen\, l=C3=A4stern und li
 eben lernen. Darum laden wir Euch ein zum ultimativen Schwesternschwatz!  $
 $  In der Puderdose d=C3=BCrfen Prinzessinnen ihr Kr=C3=B6nchen ablegen\, Bi
 tches die High Heels von den F=C3=BC=C3=9Fen streifen und Muttis Kind und K
 egel zuhause lassen\, denn der Dress Code lautet: Come as you are.  =0D=0A  Aber
  Vorsicht: Frei laufende H=C3=BChner! Gackern garantiert.    Zur Website:  
    kabarett-puderdose.de        Seien Sie dabei. Wir freuen uns auf Sie!   
  =0D=0A    Eintrittspreise & Eintritt      Regul=C3=A4rer Preis: 22 =E2=82=AC  
     Erm=C3=A4=C3=9Figung f=C3=BCr Sch=C3=BCler und Studenten: 18 =E2=82=AC 
      Solidarit=C3=A4tsticket: 25 =E2=82=AC      Einlass: 19:30 Uhr      Beg
 inn: 20:15 Uhr      =0D=0A        Samstag\, 25. Oktober 2025          Samstag\, 1
 7. Oktober 2026     =20
URL:https://kalender.karlsruhe.de/db/termine/theater/die_puderdose_weiberabend-1
CLASS:PUBLIC
DTSTART:20261017T201500
DTEND:20261017T220000
DTSTAMP:20250805T093556
CATEGORIES:Theater, Tanz
ATTACH:https://kalender.karlsruhe.de/db/termine/theater/die_puderdose_weiberabend-1/file/icon_PuderdoseFlyerWeiberabend_vorne_Druck.jpg
END:VEVENT

END:VCALENDAR
