BEGIN:VCALENDAR
VERSION:2.0
CALSCALE:GREGORIAN
PRODID:https://kalender.karlsruhe.de/db/termine/
METHOD:PUBLISH
BEGIN:VEVENT
UID:579031
ORGANIZER;CN=marotte Theater:MAILTO:info@marotte-theater.de
LOCATION:marotte Theater
SUMMARY:Die Ritter der Kokosnuss
DESCRIPTION;ENCODING=QUOTED-PRINTABLE:Monty-Python-Wochenende in der marotte!=0D=0A=0D=0AAuch Bl=C3=B6deln will gekonnt s
 ein! Besonders\, wenn es um K=C3=B6nig Artus geht\, den Begr=C3=BCnder der Ta
 felrunde und Herr =C3=BCber Camelot.  Mit Hilfe einer tapferen Ritterschar 
 begibt er sich auf die Suche nach dem sagenumwobenen heiligen Gral und - la
 st\, but not least - will er auch noch das Reich von den einfallenden Franzo
 sen befreien. Leider handelt es sich bei seiner Truppe um eine Ansammlung i
 rrer Trottel und sein Unternehmen erleidet schnell zahlreiche R=C3=BCckschl
 =C3=A4ge. Ein Roadmovie. Mit Rittern.=20
URL:https://kalender.karlsruhe.de/db/termine/theater/die_ritter_der_kokosnuss
CLASS:PUBLIC
DTSTART:20260510T190000
DTEND:20260510T203000
DTSTAMP:20260223T081148
CATEGORIES:Theater, Tanz
ATTACH:https://kalender.karlsruhe.de/db/termine/theater/die_ritter_der_kokosnuss/file/icon_Die Ritter der Kokosnuss1 mittel.jpg
END:VEVENT

END:VCALENDAR
