BEGIN:VCALENDAR
VERSION:2.0
CALSCALE:GREGORIAN
PRODID:https://kalender.karlsruhe.de/db/termine/
METHOD:PUBLISH
BEGIN:VEVENT
UID:578307
ORGANIZER;CN=Die Spiegelfechter:MAILTO:info@spiegelfechter.de
LOCATION:Kabarett in der Orgelfabrik - die Spiegelfechter
SUMMARY:Die Spiegelfechter —  Blick zurück nach vorn!
DESCRIPTION;ENCODING=QUOTED-PRINTABLE:Schon doll\, was unter Wilhelm Zwo und in Weimars Zeiten an Worten ergriffen
  und zum Witz gemacht wurde\, unter Hitler verstarb und auferstand aus Ruine
 n.=0D=0A=0D=0A  Schon doll\, was unter Wilhelm Zwo und in Weimars Zeiten an Worten e
 rgriffen und zum Witz gemacht wurde\, unter Hitler verstarb und auferstand a
 us Ruinen. Echte Kabarett-Stars der Weimarer Republik waren Werner Finck un
 d Tibor Kasics\, die die =E2=80=9CDie Katakombe=E2=80=9D in Berlin gr=C3=BCn
 deten. Die Kabarettb=C3=BChne die relativ unpolitisch begann\, aber immer st
 =C3=A4rker gegen die braune Gefahr Stellung bezog. Das =E2=80=9EGoldene Buc
 h der Katakombe=E2=80=99=E2=80=9C befindet sich im Besitz des Deutschen Kab
 arettarchivs. Ole Hoffmann hat es f=C3=BCr diesen Abend gesichtet. In diese
 m G=C3=A4stebuch der Katakombe ist ein launiger Spruch von Joachim Ringelna
 tz ebenso enthalten wie eine Originalzeichnung von Walter Trier\, der die B
 =C3=BCcher Erich K=C3=A4stners illustrierte. Es finden sich Signaturen und 
 Spr=C3=BCche von Hans Albers bis Carl Zuckmayer\, von Klaus und Heinrich Man
 n\, Walter Hasenclever und George Grosz\, Max Reinhardt\, Erich M=C3=BChsam\, G
 ustav Gr=C3=BCndgens\, von Luigi Pirandello und Erwin Picator bis Alfred D
 =C3=B6blin und Richard Huelsenbeck sowie vieler weiter Kabarettk=C3=BCnstle
 r\, aus der bunten=C2=A0 Vielfalt der damaligen Kabarettszene. An diesem Abe
 nd sollen sie noch einmal zu Geh=C3=B6r kommen.    Gegen Ende der Weimarer 
 Republik stellt Werner Fink sich vor\, was passieren wird\, wenn die Nazis an
 s Ruder kommen und prophezeit:    =E2=80=9EIn den ersten Wochen des Dritten
  Reichs werden Paraden abgehalten. Sollten diese Paraden durch Regen\, Hagel
  oder Schnee verhindert werden\, werden alle Juden in der Umgebung erschosse
 n.=E2=80=9C    =E2=80=94 Diese Pointe\, das sollte sich bald zeigen\, war kei
 ne.    Ole Hoffmann wirft an diesem Abend einen Blick zur=C3=BCck nach vorn
 ! Oder\, um es mit den Worten von Dieter Hildebrandt nach der Lekt=C3=BCre d
 es Goldenen Buchs zu sagen: =E2=80=9EEs bleibt immer alles beim Alten.=E2
 =80=9C    Seien Sie dabei. Wir freuen uns auf Sie!  =0D=0A    Eintrittspreise &
  Eintritt      Regul=C3=A4rer Preis: 7 =E2=82=AC      Erm=C3=A4=C3=9Figung 
 f=C3=BCr Sch=C3=BCler und Studenten: 7 =E2=82=AC      Solidarit=C3=A4tstick
 et: 25 =E2=82=AC      Einlass: 19:30 Uhr      Beginn: 20:15 Uhr      Karten
  kaufen      Samstag\, 23. Mai 2026 (Premiere)      Freitag\, 05. Juni 2026  
     Samstag\, 13. Juni 2026      Samstag\, 20. Juni 2026      Samstag\, 27. Ju
 ni 2026   =20
URL:https://kalender.karlsruhe.de/db/termine/theater/die_spiegelfechter_blick_zuruck_nach_vorn
CLASS:PUBLIC
DTSTART:20260523T201500
DTEND:20260523T220000
DTSTAMP:20260127T084222
CATEGORIES:Theater, Tanz
ATTACH:https://kalender.karlsruhe.de/db/termine/theater/die_spiegelfechter_blick_zuruck_nach_vorn/file/icon_Bild 22.01.26 um 19.18.jpg
END:VEVENT

END:VCALENDAR
