BEGIN:VCALENDAR
VERSION:2.0
CALSCALE:GREGORIAN
PRODID:https://kalender.karlsruhe.de/db/termine/
METHOD:PUBLISH
BEGIN:VEVENT
UID:578306
ORGANIZER;CN=Die Spiegelfechter:MAILTO:info@spiegelfechter.de
LOCATION:Kabarett in der Orgelfabrik - die Spiegelfechter
SUMMARY:Du, Vater, gell, der Krieg is was Gefährliches - mit Bettina Franke und dem Liedermacher Bernd Köhler
DESCRIPTION;ENCODING=QUOTED-PRINTABLE:Zum internationalen Tag der Kriegsdienstverweigerung  - Die Veranstaltung f
 indet in Kooperation mit der Deutschen Friedensgesellschaft-Vereinigte Krie
 gsdienstgegner:innen (DFG-VK) Gruppe Karlsruhe statt.=0D=0A=0D=0A  Zum internationa
 len Tag der Kriegsdienstverweigerung widmen sich die Schauspielerin Bettina
  Franke und der Liedermacher Bernd K=C3=B6hler dem gro=C3=9Fen Thema der Me
 nschheitsgeschichte mit Texten\, Gedichten und Songs aus mehreren Jahrhunder
 ten\, montiert mit eigenen Liedern und Texten.=C2=A0Der Krieg ist dem Wesen 
 des Menschen nicht eigen. Die Suche nach Frieden\, nach einem friedlichen Mi
 teinander bestimmt das Leben seit Menschen denken.    Die Schauspielerin un
 d der Liedermacher haben dazu Entr=C3=BCstendes aus Literatur und Musik von
  Karl Valentin\, Kurt Weil\, Berta von Suttner\, Rosa Luxemburg\, Hans-Dieter H
 =C3=BCsch\, Jandl\, Ingeborg Bachmann\, Bertolt Brecht\, Hanns Eisler\, Stefan Z
 weig\, Selma Meerbaum-Eisinger\, Immanuel Kant\, Gerhard Zwerenz\, Wolf Bierman
 n u.a. zusammengetragen und mit eigenen Beitr=C3=A4gen montiert.    Die Ver
 anstaltung findet in Kooperation mit der Deutschen Friedensgesellschaft-Ver
 einigte Kriegsdienstgegner:innen (DFG-VK) Gruppe Karlsruhe statt.    https:
 //karlsruhe.dfg-vk.de/    Seien Sie dabei. Wir freuen uns auf Sie!  =0D=0A    E
 intrittspreise & Eintritt      Regul=C3=A4rer Preis: 10 =E2=82=AC      Erm
 =C3=A4=C3=9Figung f=C3=BCr Sch=C3=BCler und Studenten: 10 =E2=82=AC      Ei
 nlass: 19:30 Uhr      Beginn: 20:15 Uhr   =20
URL:https://kalender.karlsruhe.de/db/termine/theater/du_vater_gell_der_krieg_is_was_gefahrliches
CLASS:PUBLIC
DTSTART:20260515T201500
DTEND:20260515T220000
DTSTAMP:20260127T084105
CATEGORIES:Theater, Tanz
ATTACH:https://kalender.karlsruhe.de/db/termine/theater/du_vater_gell_der_krieg_is_was_gefahrliches/file/icon_Bild.jpg
END:VEVENT

END:VCALENDAR
