BEGIN:VCALENDAR
VERSION:2.0
CALSCALE:GREGORIAN
PRODID:https://kalender.karlsruhe.de/db/termine/
METHOD:PUBLISH
BEGIN:VEVENT
UID:578165
ORGANIZER;CN=marotte Theater:MAILTO:info@marotte-theater.de
LOCATION:marotte Theater
SUMMARY:Er ist wieder da
DESCRIPTION;ENCODING=QUOTED-PRINTABLE:Nach dem bekannten Roman von Timur Vermes=0D=0A=0D=0AEine bitterb=C3=B6se Satire 
 =C3=BCber die Entmoralisierung der Informations- und Unterhaltungsindustrie
 \, die mit Werteverlust einhergehende Gier nach immer Neuerem und Sensatione
 llerem.  Er f=C3=A4llt auf\, dieser orientierungslos durch Berlin irrende Ma
 nn mit der braunen Uniform und der schnarrenden Sprechweise. So sehr\, dass 
 Passanten eine versteckte Kamera wittern\, in ihm einen getarnten Mitarbeite
 r von Stefan Raab oder der Heute-Show vermuten. Wir schreiben den Hochsomme
 r 2011\, Adolf Hitler ist wieder da\, 66 Jahre nach seinem Tod aufgewacht in 
 einer ver=C3=A4nderten Welt. Und die nimmt ihn\, den vermeintlichen Schauspi
 eler-Comedian\, ob seiner =E2=80=9EOriginalit=C3=A4t=E2=80=9C bald mit Freud
 en auf. Bald wird er von der Fernsehproduktionsfirma Flashlight entdeckt 
 =E2=80=93 als lang ersehnte Alternative zu Mario Barth & Co. Als Mann\, der 
 sich so nat=C3=BCrlich\, so authentisch gibt wie allenfalls noch Stromberg u
 nd dessen erfrischend politische Unkorrektheit als aufkl=C3=A4rerische Prov
 okation gefeiert wird. Hitlers neue Medienkarriere schreitet konsequent vor
 an\, bis auch die etablierten Parteien um seine Mitgliedschaft buhlen. Nach 
 dem Erfolgsroman von Timur Vermes pr=C3=A4sentieren wir eine Inszenierung\, 
 die uns zum Lachen bringt\, auch wenn es uns hin und wieder im Halse stecken
  bleibt.  Darf man dar=C3=BCber lachen? Klar darf man... aber auch dar=C3
 =BCber nachdenken.   Darsteller: Carsten Dittrich\, Jan Mixsa    Regie: Detl
 ef Heinichen Figuren und B=C3=BChne: Matthias H=C3=A4nsel=20
URL:https://kalender.karlsruhe.de/db/termine/theater/er_ist_wieder_da
CLASS:PUBLIC
DTSTART:20260220T200000
DTEND:20260220T213000
DTSTAMP:20260120T085245
CATEGORIES:Theater, Tanz
ATTACH:https://kalender.karlsruhe.de/db/termine/theater/er_ist_wieder_da/file/icon_Pressebild_D2_Er_ist_wieder_da.jpg
END:VEVENT

END:VCALENDAR
