BEGIN:VCALENDAR
VERSION:2.0
CALSCALE:GREGORIAN
PRODID:https://kalender.karlsruhe.de/db/termine/
METHOD:PUBLISH
BEGIN:VEVENT
UID:579833
ORGANIZER;CN=Daniela Max Tanzen in Karlsruhe:MAILTO:tanzen@danielamax.de
LOCATION:Tanzando
SUMMARY:Floorwork Intensive: 10-Wochen-Kurs ab 23. April
DESCRIPTION;ENCODING=QUOTED-PRINTABLE:F=C3=BCr alle\, die Freude an Floorwork haben und sich intensiver mit den Be
 wegungsm=C3=B6glichkeiten und der Tanztechnik am Boden auseinandersetzen m
 =C3=B6chten\, biete ich einen Floorwork Intensive an. Dieser Kurs eignet sic
 h f=C3=BCr Mittelstufe und Fortgeschrittene.=0D=0A=0D=0A    Kursinhalte:    Der Unt
 erricht startet mit einem sorgf=C3=A4ltigen Warm-up\, das darauf abzielt\, de
 n K=C3=B6rper optimal aufzuw=C3=A4rmen und vorzubereiten. Anschlie=C3=9Fend
  erkunden wir verschiedene Diagonalen durch den Raum\, um uns mit der Bewegu
 ngssprache und den vielf=C3=A4ltigen Bewegungsm=C3=B6glichkeiten vertraut z
 u machen. Im zweiten Teil der Stunde liegt der Fokus auf der Erarbeitung ei
 ner Bodenkombination\, die sich flie=C3=9Fend und organisch in und aus dem B
 oden bewegt.      Kurszeit und -ort:          Donnerstags:      =0D=0A       Wa
 nn:      19:15 Uhr bis 20:15 Uhr   =0D=0A       Wo:      Tanzando\, Douglasstr. 
 24/26\, 76133 Karlsruhe   =0D=0A       Termine:      23. April\, 30. April\, 07. M
 ai\, 21. Mai\, 11. Juni\, 18. Juni\, 25. Juni\, 02. Juli\, 09. Juli\, 16. Juli    
     Hinweis:    Kein Kurs am 14. Mai (Christi Himmelfahrt) und in den Pfing
 stferien.      Teilnahmeinformationen:    Die Termine sind als Gesamtpaket 
 buchbar\, es gibt keine Vertragsbindung und ein Einstieg ist jederzeit m=C3
 =B6glich. Es werden keine Anmeldegeb=C3=BChren berechnet. Interessierte k
 =C3=B6nnen gerne eine Probestunde zum Ausprobieren einzeln buchen. Die Grup
 pengr=C3=B6=C3=9Fe ist auf maximal zehn TeilnehmerInnen begrenzt. =20
URL:https://kalender.karlsruhe.de/db/termine/theater/floorwork_intensive_10_wochen_kurs_ab_23_april
CLASS:PUBLIC
DTSTART:20260423T191500
DTEND:20260716T201500
DTSTAMP:20260306T094632
CATEGORIES:Theater, Tanz
ATTACH:https://kalender.karlsruhe.de/db/termine/theater/floorwork_intensive_10_wochen_kurs_ab_23_april/file/icon_milana-aernova-MToShVa4R74-unsplash.jpg
END:VEVENT

END:VCALENDAR
