BEGIN:VCALENDAR
VERSION:2.0
CALSCALE:GREGORIAN
PRODID:https://kalender.karlsruhe.de/db/termine/
METHOD:PUBLISH
BEGIN:VEVENT
UID:573568
ORGANIZER;CN=Die Spiegelfechter:MAILTO:info@spiegelfechter.de
LOCATION:Kabarett in der Orgelfabrik - die Spiegelfechter
SUMMARY:Frank Sauer - Süßer der Sauer nie klingelt
DESCRIPTION;ENCODING=QUOTED-PRINTABLE:Vivaldi kannte nur 4 Jahreszeiten.=0D=0A=0D=0A  Vivaldi kannte nur 4 Jahreszeiten. 
 Mittlerweile ist Karneval als f=C3=BCnfte Jahreszeit dazugekommen\, und die 
 sechste ist nat=C3=BCrlich: die klingelingende Weihnachtszeit.  =0D=0A  Da darf
  nat=C3=BCrlich Frank Sauers s=C3=BC=C3=9Fes Klingelprogramm nicht fehlen. 
 Denn gl=C3=B6ckchenhelles Lachen ist nicht nur die beste Medizin\, sondern m
 acht auch fast so gl=C3=BCcklich wie Schokoladenherzen. Und so schlendert F
 rank Sauer mit einem Grinsen im Auge und Kekskr=C3=BCmeln im Mundwinkel bes
 eelt l=C3=A4chelnd durch die sch=C3=B6nste Zeit des Jahres\, verr=C3=A4t Ihn
 en sein pers=C3=B6nliches G=C3=A4nsebraten-Rezept\, schaut am=C3=BCsiert dem
  Weihnachtsmann unter den Mantel und =C3=BCber die Schulter\, verr=C3=A4t au
 sgefallene Geschenkideen oder Psycho-Tipps f=C3=BCrs Familientreffen\, und p
 r=C3=A4sentiert Wissenswertes\, Ulkiges\, Schr=C3=A4ges und R=C3=BChrendes ru
 nd um die Weihnachtszeit. Genie=C3=9Fen Sie mit Frank Sauer einen liebevoll
 -augenzwinkernden Blick auf die sch=C3=B6nste Jahreszeit und verbringen Sie
  einen marzipanumwehten Abend mit dem Botschafter des glitzernden Humors. S
 ie werden sich christbaumkugeln vor Lachen.    Website:     franksauer.net 
        Seien Sie dabei. Wir freuen uns auf Sie!    =0D=0A    Eintrittspreise & 
 Eintritt      Regul=C3=A4rer Preis: 22 =E2=82=AC      Erm=C3=A4=C3=9Figung 
 f=C3=BCr Sch=C3=BCler und Studenten: 18 =E2=82=AC      Einlass: 19:30 Uhr  
     Beginn: 20:15 Uhr   =20
URL:https://kalender.karlsruhe.de/db/termine/theater/frank_sauer_suer_der_sauer_nie_klingelt
CLASS:PUBLIC
DTSTART:20261218T201500
DTEND:20261218T220000
DTSTAMP:20250805T093619
CATEGORIES:Theater, Tanz
ATTACH:https://kalender.karlsruhe.de/db/termine/theater/frank_sauer_suer_der_sauer_nie_klingelt/file/icon_F0B08131-962B-491A-A2EC-AE930F5693A9.jpg
END:VEVENT

END:VCALENDAR
