BEGIN:VCALENDAR
VERSION:2.0
CALSCALE:GREGORIAN
PRODID:https://kalender.karlsruhe.de/db/termine/
METHOD:PUBLISH
BEGIN:VEVENT
UID:573546
ORGANIZER;CN=Die Spiegelfechter:MAILTO:info@spiegelfechter.de
LOCATION:Kabarett in der Orgelfabrik - die Spiegelfechter
SUMMARY:Franziska Wanninger › Wenn du wen brauchst, ruf mich nicht an
DESCRIPTION;ENCODING=QUOTED-PRINTABLE:=E2=80=9EDenn dieses Talent ist =E2=80=93 um im Eso-Bild zu bleiben =E2=80
 =93 geboren im Sternzeichen Typenkabarettistin\, Aszendent Rampensau. (=E2
 =80=A6)=0D=0A=0D=0A      Die Telefonleitungen gl=C3=BChen\, denn Franziska Wanninger
  bringt nach ihrem Erfolgsabend =E2=80=9EF=C3=BCr mich soll=E2=80=99s rote 
 Rosen hageln=E2=80=9C ein neues Kabarettprogramm raus! =E2=80=9EWenn du wen
  brauchst\, ruf mich nicht an=E2=80=9C ist eine kurzweilige Melange von erfr
 ischender Ehrlichkeit. Denn wer gibt schon gern zu\, dass die eigenen Ratsch
 l=C3=A4ge =C3=B6fter mal nach hinten los gehen. Schlie=C3=9Flich sind alle 
 Paare\, bei denen die preisgekr=C3=B6nte Kabarettistin Trauzeugin war\, l=C3
 =A4ngst wieder geschieden.    Geboren im Aszendenten =E2=80=9Eein Wunschkin
 d warst du nicht=E2=80=9C\, daf=C3=BCr ausgestattet mit einer geh=C3=B6rigen
  Portion Humor\, hat Franziska Wanninger schon fr=C3=BCh gelernt\, widrige Um
 st=C3=A4nde in herrlich komische Geschichten zu verwandeln. Sie erz=C3=A4hl
 t von der L=C3=A4ssigkeit des =C3=84lterwerdens\, viel zu fr=C3=BCh gestorbe
 nen Goldfischen und den Abgr=C3=BCnden ihrer ganz und gar nicht normalen Fa
 milie. Freuen Sie sich auf einen lustigen Abend\, umrahmt von schmetterndem 
 Gesang\, gespickt mit pointierten Abhandlungen =C3=BCber nichts Geringeres a
 ls das Leben an sich: Umz=C3=BCge\, Hotelbetten\, die Liebe\, das Gl=C3=BCck u
 nd der Tod! Und das Gl=C3=BCck\, zwar schon =C3=BCber 40\, aber wenigstens no
 ch nicht tot zu sein.    Charmant und mit gro=C3=9Fer schauspielerischer Ko
 mik rei=C3=9Ft =E2=80=9ELa Wanninger=E2=80=9C in gewohnter Manier ihr Publi
 kum mit und l=C3=A4sst es teilhaben an ihren gro=C3=9Fartig ersponnenen dop
 pelb=C3=B6digen Figuren. Und sind wir uns mal ehrlich: Anstrengende Zeiten 
 verlangen nach leichtf=C3=BC=C3=9Figen Abenden. Bei aller Bescheidenheit\, a
 ber ein Abend bei Franziska Wanninger ist wie eine willkommene Auszeit und 
 au=C3=9Ferdem mindestens so nachhaltig wie der Hochzeitsschrank von Tante T
 raudl. Lauschen Sie den urkomischen Geschichten dieser bayerischen Granate.
  Schreien Sie\, lachen Sie\, toben Sie! Aber rufen Sie blo=C3=9F nicht bei ih
 r an.          Freitag\, 11. April 2025        Einlass: 19.30 Uhr    Beginn:
  20:15 Uhr        VVK: =E2=82=AC 22\,- erm. 18\,- 10er Karten haben G=C3=BClt
 igkeit    AK: =E2=82=AC 22\,- erm. 18\,- 10er Karten haben G=C3=BCltigkeit   
  =0D=0A    =0D=0A      =E2=80=9EDenn dieses Talent ist =E2=80=93 um im Eso-Bild zu 
 bleiben =E2=80=93 geboren im Sternzeichen Typenkabarettistin\, Aszendent Ram
 pensau. (=E2=80=A6)    Link:     franziska-wanninger.de          =0D=0A =20
URL:https://kalender.karlsruhe.de/db/termine/theater/franziska_wanninger_wenn_du_wen_brauchst-1
CLASS:PUBLIC
DTSTART:20261114T201500
DTEND:20261114T220000
DTSTAMP:20250805T093745
CATEGORIES:Theater, Tanz
ATTACH:https://kalender.karlsruhe.de/db/termine/theater/franziska_wanninger_wenn_du_wen_brauchst-1/file/icon_A5A735E0-CCE4-402B-97F6-4B0A1A1E407F_4_5005_c.jpg
END:VEVENT

END:VCALENDAR
