BEGIN:VCALENDAR
VERSION:2.0
CALSCALE:GREGORIAN
PRODID:https://kalender.karlsruhe.de/db/termine/
METHOD:PUBLISH
BEGIN:VEVENT
UID:579159
ORGANIZER;CN=marotte Theater:MAILTO:info@marotte-theater.de
LOCATION:marotte Theater
SUMMARY:Fritz Rasselkopf (Gastspiel ab 4)
DESCRIPTION;ENCODING=QUOTED-PRINTABLE:Sommerfest in der marotte!=0D=0A=0D=0AFritz ist ein kleiner Blechkopf mit verstrubb
 eltem Haar und runden Kulleraugen\, der sehr gern Bl=C3=B6dsinn macht. Desha
 lb wird er als =E2=80=9ERasselkopf=E2=80=9C ger=C3=BCgt. Aber was sind Rass
 elk=C3=B6pfe eigentlich und wo wohnen sie? Um das zu erfahren\, macht sich B
 lechkopf Fritz auf eine abenteuerliche Suche. Mit Hilfe von Windrad und Akk
 ordeon gelangt er auf eine Insel mit ungew=C3=B6hnlichen Bewohnern. Vor und
  mit den Zuschauern entsteht eine Welt zum Mitsingen\, Krachmachen und Lache
 n. Ein fantasievoller Abenteuerspa=C3=9F f=C3=BCr Gro=C3=9F und Klein. Regi
 e / Spiel: Jan Mixsa=20
URL:https://kalender.karlsruhe.de/db/termine/theater/fritz_rasselkopf_gastspiel_ab4n-2
CLASS:PUBLIC
DTSTART:20260801T150000
DTEND:20260801T154500
DTSTAMP:20260306T094752
CATEGORIES:Theater, Tanz
ATTACH:https://kalender.karlsruhe.de/db/termine/theater/fritz_rasselkopf_gastspiel_ab4n-2/file/icon_Sommerfest-Fritz.jpg
END:VEVENT

END:VCALENDAR
