BEGIN:VCALENDAR
VERSION:2.0
CALSCALE:GREGORIAN
PRODID:https://kalender.karlsruhe.de/db/termine/
METHOD:PUBLISH
BEGIN:VEVENT
UID:579157
ORGANIZER;CN=marotte Theater:MAILTO:info@marotte-theater.de
LOCATION:marotte Theater
SUMMARY:Furzipups, der Knatterdrache (ab 3)
DESCRIPTION;ENCODING=QUOTED-PRINTABLE:Sommerfest in der marotte!=0D=0A=0D=0A    nach dem bekannten Kinderbuch von Kai L
 =C3=BCftner      Der kleine Drache Furzipups\, der zur Gattung der Knatterdr
 achen geh=C3=B6rt\, f=C3=BChrt kein einfaches Leben.  Im Gegensatz zu seinen
  Artgenossen gelingt ihm das Feuerspucken einfach =C3=BCberhaupt nicht.  Da
 bei ist es sogar Pflicht f=C3=BCr einen richtigen Drachen\, dass er bei Gefa
 hr Feuer spuckt.  So sehr er es auch versucht\, =C3=BCber ein paar kleine Ra
 uchw=C3=B6lkchen kommt er nicht hinaus. Stattdessen kommt bei ihm immer nur
  ein dicker Pups..    Spiel: Sebastian Kreutz=C2=A0=C2=A0 Regie: Thomas H
 =C3=A4nsel =20
URL:https://kalender.karlsruhe.de/db/termine/theater/furzipups_der_knatterdrache_ab3n-71
CLASS:PUBLIC
DTSTART:20260731T110000
DTEND:20260731T114000
DTSTAMP:20260306T094758
CATEGORIES:Theater, Tanz
ATTACH:https://kalender.karlsruhe.de/db/termine/theater/furzipups_der_knatterdrache_ab3n-71/file/icon_Sommerfest-FP.jpg
END:VEVENT

END:VCALENDAR
