BEGIN:VCALENDAR
VERSION:2.0
CALSCALE:GREGORIAN
PRODID:https://kalender.karlsruhe.de/db/termine/
METHOD:PUBLISH
BEGIN:VEVENT
UID:579824
ORGANIZER;CN=marotte Theater:MAILTO:info@marotte-theater.de
LOCATION:marotte Theater
SUMMARY:Furzipups und Hicksi Huhn
DESCRIPTION;ENCODING=QUOTED-PRINTABLE:Der zweite Teil der beliebten Kinderbuchreihe=0D=0A=0D=0A  Hicksi Huhn hat es nicht
  leicht. Immer dieser Schluckauf!  =0D=0A  Doch der kleine Drache Furzipups wil
 l dem Huhn helfen. Er hat einige lustige Ideen\, wie ein Schluckauf zu besie
 gen geht. Ob das klappt?  =0D=0A  Auf jeden Fall haben die Beiden viel Spa=C3
 =9F miteinander und werden richtig gute Freunde. =20
URL:https://kalender.karlsruhe.de/db/termine/theater/furzipups_und_hicksi_huhn-6
CLASS:PUBLIC
DTSTART:20260531T140000
DTEND:20260531T144500
DTSTAMP:20260407T115649
CATEGORIES:Theater, Tanz
ATTACH:https://kalender.karlsruhe.de/db/termine/theater/furzipups_und_hicksi_huhn-6/file/icon_IMG_20260327_120253_edit_623280025499681.jpg
END:VEVENT

END:VCALENDAR
