BEGIN:VCALENDAR
VERSION:2.0
CALSCALE:GREGORIAN
PRODID:https://kalender.karlsruhe.de/db/termine/
METHOD:PUBLISH
BEGIN:VEVENT
UID:579831
ORGANIZER;CN=marotte Theater:MAILTO:info@marotte-theater.de
LOCATION:marotte Theater
SUMMARY:Furzipups und Hicksi Huhn (ab 3)
DESCRIPTION;ENCODING=QUOTED-PRINTABLE:Sommerfest in der marotte!=0D=0A=0D=0A  Hicksi Huhn hat es nicht leicht. Immer dies
 er Schluckauf!  =0D=0A  Doch der kleine Drache Furzipups will dem Huhn helfen. 
 Er hat einige lustige Ideen\, wie ein Schluckauf zu besiegen geht. Ob das kl
 appt?  =0D=0A  Auf jeden Fall haben die Beiden viel Spa=C3=9F miteinander und w
 erden richtig gute Freunde. =20
URL:https://kalender.karlsruhe.de/db/termine/theater/furzipups_und_hicksi_huhn_ab3n
CLASS:PUBLIC
DTSTART:20260801T110000
DTEND:20260801T114500
DTSTAMP:20260306T094652
CATEGORIES:Theater, Tanz
ATTACH:https://kalender.karlsruhe.de/db/termine/theater/furzipups_und_hicksi_huhn_ab3n/file/icon_Sommerfest _FP2.jpg
END:VEVENT

END:VCALENDAR
