BEGIN:VCALENDAR
VERSION:2.0
CALSCALE:GREGORIAN
PRODID:https://kalender.karlsruhe.de/db/termine/
METHOD:PUBLISH
BEGIN:VEVENT
UID:573567
ORGANIZER;CN=Die Spiegelfechter:MAILTO:info@spiegelfechter.de
LOCATION:Kabarett in der Orgelfabrik - die Spiegelfechter
SUMMARY:Glühwein zum Frühstück - In 24 Schlückchen zur Besinnlichkeit
DESCRIPTION;ENCODING=QUOTED-PRINTABLE:Gemeinsames weihnachtliches Vorgl=C3=BChen mit Konstantin Schmidt=0D=0A=0D=0A  Alle
  Jahre wieder =E2=80=A6 ist es Zeit f=C3=BCr Weihnachtskabarett. Wie kommt 
 man zielsicher zu Weihnachtsgef=C3=BChlen? Diplom-Ingenieur Konstantin Schm
 idt =C3=B6ffnet f=C3=BCr uns 24 T=C3=BCrchen auf dem Weg zu einer sch=C3=B6
 nen Weihnachtszeit =E2=80=93 nicht immer konfliktfrei\, aber immer mit dem Z
 iel\, den 24. heil zu erreichen. Mit Klavier und dem trockenen Humor eines I
 ngenieurs macht er sich und anderen einen Reim auf die Welt und die Weihnac
 htszeit im Besonderen.    Ob Weihnachtsmarkt-Ged=C3=B6ns\, Christmas-Beschal
 lung oder die freiwillige Firmenfeier mit Anwesenheitspflicht =E2=80=93 Kon
 stantin Schmidt gibt praktische Ratschl=C3=A4ge zur Weihnachts-Bew=C3=A4lti
 gung\, inklusive Tipps\, wie man ganz einfach auf Geschenkideen kommt.    Wei
 hnachten ist eine Frage der Perspektive. Und des Geb=C3=A4cks. Und der Fl
 =C3=B6tent=C3=B6ne. Und au=C3=9Ferdem: Wenn nichts mehr geht\, Helene Fische
 r geht immer.    Jeder Zuschauer bekommt etwas geschenkt: 90+ sch=C3=B6ne u
 nd abwechslungsreiche Minuten Kabarett-Unterhaltung. Und einen Keks. Und 
 =E2=80=93 ach ja =E2=80=93 schneien wird es auch. Versprochen!    Weihnacht
 sstress? Das Programm "Gl=C3=BChwein zum Fr=C3=BChst=C3=BCck" ist ein Schlu
 ck in die richtige Richtung. Auch f=C3=BCr Anti-Alkoholiker geeignet.  =0D=0A  
  Termin: 10. Dezember 2026 | Einlass: 19:30 Uhr | Beginn: 20:15 Uhr |    Ei
 ntritt: 22\,- erm 18 =E2=82=AC  Solidarit=C3=A4tsticket 25\,- | www.konstanti
 n-schmidt.de  =0D=0A =0D=0A=20
URL:https://kalender.karlsruhe.de/db/termine/theater/gluhwein_zum_fruhstuck_in_24_schluckchen-3
CLASS:PUBLIC
DTSTART:20261210T201500
DTEND:20261210T221500
DTSTAMP:20250805T093539
CATEGORIES:Theater, Tanz
ATTACH:https://kalender.karlsruhe.de/db/termine/theater/gluhwein_zum_fruhstuck_in_24_schluckchen-3/file/icon_highres_5c019a47-f509-4c89-bb5e-8c5fe51e4fd0.jpg
END:VEVENT

END:VCALENDAR
