BEGIN:VCALENDAR
VERSION:2.0
CALSCALE:GREGORIAN
PRODID:https://kalender.karlsruhe.de/db/termine/
METHOD:PUBLISH
BEGIN:VEVENT
UID:580310
ORGANIZER;CN=Badisches Staatstheater Karlsruhe:MAILTO:kartenservice@staatstheater.karlsruhe.de
LOCATION:Staatstheater, siehe Beschreibung
SUMMARY:Habibi, das ist echt!
DESCRIPTION;ENCODING=QUOTED-PRINTABLE:Urauff=C3=BChrung | Auftragswerk=0D=0A=0D=0A
URL:https://kalender.karlsruhe.de/db/termine/theater/habibi_das_ist_echt
CLASS:PUBLIC
DTSTART:20260528T210000
DTEND:
DTSTAMP:20260321T175544
CATEGORIES:Theater, Tanz
ATTACH:https://kalender.karlsruhe.de/db/termine/theater/habibi_das_ist_echt/file/icon_bsk_2025-26_stueckinfo_habibi_682f16995344c7.24616093.jpg
END:VEVENT

END:VCALENDAR
