BEGIN:VCALENDAR
VERSION:2.0
CALSCALE:GREGORIAN
PRODID:https://kalender.karlsruhe.de/db/termine/
METHOD:PUBLISH
BEGIN:VEVENT
UID:577944
ORGANIZER;CN=KME Karlsruhe Marketing und Event GmbH:MAILTO:info@karlsruhe-event.de
LOCATION:Günther-Klotz-Anlage
SUMMARY:INDIA SUMMER DAYS Karlsruhe 2026
DESCRIPTION;ENCODING=QUOTED-PRINTABLE:Die India Summer Days bieten ein vielf=C3=A4ltiges Kulturfestival mit Musik
 \, Tanz\, Kulinarik\, Mitmach-Programmen und Yoga bei kostenfreiem Eintritt un
 d parallel zu DAS FEST.=0D=0A=0D=0A  Die     India Summer Days Karlsruhe    bringen
  vom 24. bis 26. Juli 2026 =E2=80=93 parallel zu DAS FEST =E2=80=93 die Vie
 lfalt der indischen Kultur nach Karlsruhe. Besucherinnen und Besucher erwar
 tet ein buntes indisches Festival mit     Live-Musik\, Tanzvorf=C3=BChrungen
 \, Yoga-Angeboten\, Vortr=C3=A4gen und Mitmachaktionen.      Ein     vielf=C3
 =A4ltiges kulinarisches Angebot    mit indischen Spezialit=C3=A4ten sowie e
 in Markt mit Kunsthandwerk und Informationsst=C3=A4nden laden zum Entdecken
  und Verweilen ein. Bei freiem Eintritt schaffen die India Summer Days eine
 n offenen Begegnungsraum f=C3=BCr Kulturinteressierte\, Familien und alle\, d
 ie Lust auf neue Eindr=C3=BCcke und sommerliche Festivalatmosph=C3=A4re hab
 en.    Foto: KME Karlsruhe Marketing und Event GmbH | Lolas Photo =20
URL:https://kalender.karlsruhe.de/db/termine/theater/india_summer_days_karlsruhe2026n
CLASS:PUBLIC
DTSTART:20260724T000000
DTEND:20260726T000000
DTSTAMP:20260114T092738
CATEGORIES:Theater, Tanz
ATTACH:https://kalender.karlsruhe.de/db/termine/theater/india_summer_days_karlsruhe2026n/file/icon_INDIA_SUMMER_DAYS_2025_©_KME_Lolas_Photo_1.jpg
END:VEVENT

END:VCALENDAR
