BEGIN:VCALENDAR
VERSION:2.0
CALSCALE:GREGORIAN
PRODID:https://kalender.karlsruhe.de/db/termine/
METHOD:PUBLISH
BEGIN:VEVENT
UID:578843
ORGANIZER;CN=Die Spiegelfechter:MAILTO:info@spiegelfechter.de
LOCATION:Kabarett in der Orgelfabrik - die Spiegelfechter
SUMMARY:Inka Meyer - HIGHWAY TO HEALTH
DESCRIPTION;ENCODING=QUOTED-PRINTABLE:Vorsicht: Diese Person ist hochansteckend!=0D=0A=0D=0A  Wie hei=C3=9Ft es so sch=C3
 =B6n? Lieber 30 Minuten erben als 30 Jahre arbeiten. Auch Inka Meyer hat vo
 n ihrer Gro=C3=9Fmutter so einiges geerbt: Neben funkelnden Augen\, spr=C3
 =BChendem Witz und Kreativit=C3=A4t leider auch ein Immunsystem\, das im Kam
 pf gegen Krankheiten eher Pazifist ist. Schon ihr halbes Leben d=C3=BCst di
 e Kabarettistin kometengleich durch das Gesundheits- und Sozialsystem: Per 
 Anhalter durch die Praxis.    So ist das: Unser Schicksal steckt oft in uns
 eren Genen. Wenn Sie keine Kinder haben\, werden Ihre Kinder auch keine Kind
 er haben. Was soll man machen? Das Leben kommt aus einer Zelle und endet ma
 nchmal auch in einer. Kann man dem eigenen Stammbaum =C3=BCberhaupt entkomm
 en? Ja! =E2=80=9EDenn wer nicht an Wunder glaubt\, ist kein Realist=E2=80=9C
 \, lautet Inka Meyers entschlossenes Credo!    Und so begibt sich die mit No
 rdseewasser getaufte Meerschaumgeborene auf die Suche nach den Wurzeln ihre
 r Familie\, die neben Friesland eine aufregende Bandbreite an Migrationsgesc
 hichten aufweist. Mit dem Udo-J=C3=BCrgens-Schlager =E2=80=9EIch war noch n
 iemals in Stettin=E2=80=9C auf den Lippen reist sie wissbegierig zum ersten
  Mal in ihrem Leben nach Polen =E2=80=93 genauer ins ehemals deutsche Pomme
 rland. Im kleinen Ort Jasenitz beginnt eine kontrollverlustige Suche nach d
 em Haus ihrer Urgro=C3=9Feltern\, bei der eine =C3=9Cbersetzungs-App im Dial
 og unabdingbar wird: So ist Inka Meyer f=C3=BCr die Dorfbewohner eine Attra
 ktion =E2=80=93 und die Einheimischen f=C3=BCr Inka Meyer.    Was genau sie
  am Ende ihrer Reise durch Pommern findet\, wird nat=C3=BCrlich nicht vorab 
 verraten. Nur so viel: Ihre Kabarettshow gleicht einem chirurgischen Eingri
 ff\, einer =E2=80=9EInkavention=E2=80=9C\, die das k=C3=B6rperliche und seeli
 sche Wohlbefinden aller Zuschauenden verbessern wird. Denn wer gesund sein 
 will\, muss lachen! Und an erster Stelle ihrer humoristischen Reise-Apotheke
  steht: =E2=80=9EWenn ihr selbst nichts zu lachen habt\, dann lacht =C3=BCbe
 r mich!=E2=80=9C Aber Vorsicht: Diese Person ist hochansteckend! Also: Maik
 =C3=A4fer fliegt =E2=80=93 aber bitte ins Kabarett!    Website:     inkamey
 er.de        Seien Sie dabei. Wir freuen uns auf Sie!    =0D=0A    Eintrittspre
 ise & Eintritt      Regul=C3=A4rer Preis: 22 =E2=82=AC      Erm=C3=A4=C3=9F
 igung f=C3=BCr Sch=C3=BCler und Studenten: 18 =E2=82=AC      Einlass: 19:30
  Uhr      Beginn: 20:15 Uhr   =20
URL:https://kalender.karlsruhe.de/db/termine/theater/inka_meyer_highway_to_health-1
CLASS:PUBLIC
DTSTART:20270319T201500
DTEND:20270319T220000
DTSTAMP:20260209T131230
CATEGORIES:Theater, Tanz
ATTACH:https://kalender.karlsruhe.de/db/termine/theater/inka_meyer_highway_to_health-1/file/icon_Inka Meyer_Highway to Health_1_hoch_RGB.jpg
END:VEVENT

END:VCALENDAR
