BEGIN:VCALENDAR
VERSION:2.0
CALSCALE:GREGORIAN
PRODID:https://kalender.karlsruhe.de/db/termine/
METHOD:PUBLISH
BEGIN:VEVENT
UID:579832
ORGANIZER;CN=Daniela Max Tanzen in Karlsruhe:MAILTO:tanzen@danielamax.de
LOCATION:Tanzando
SUMMARY:Jazz Dance M Frühlingskurs ab 25. März
DESCRIPTION;ENCODING=QUOTED-PRINTABLE:F=C3=BCr alle\, die Spa=C3=9F am Jazz Dance haben\, bietet sich dieser Kurs f
 =C3=BCr die Mittelstufe an. In einer freundlichen und motivierenden Atmosph
 =C3=A4re kannst du regelm=C3=A4=C3=9Fig gemeinsam mit Gleichgesinnten tanze
 n.=0D=0A=0D=0A    Kursinhalte:    Erlebe eine Stunde voller Freude\, die ein klassis
 ches Jazz-Warm-up (Pli=C3=A9s\, Tendus\, Dreh=C3=BCbungen etc.)\, gezielte Mus
 kelkr=C3=A4ftigung\, Stretching und mitrei=C3=9Fende Diagonalen umfasst. Mit
  Begeisterung\, Geduld und Hingabe arbeiten wir an der Technik und bereiten 
 den K=C3=B6rper optimal auf die abschlie=C3=9Fende Choreografie vor\, um das
  Tanzerlebnis perfekt zu gestalten. Mein Ziel ist es\, Freude zu erleben\, lo
 szulassen und gleichzeitig Neues zu lernen!      Kurszeiten und -orte:     
        Mittwochskurs:        =0D=0A         Wann:        18:30 Uhr bis 19:30 Uh
 r    =0D=0A         Wo:        Tanzando\, Douglasstr. 24/26\, 76133 Karlsruhe    
 =0D=0A         Termine:        25. M=C3=A4rz\, 01. April\, 08. April\, 15. April\, 
 22. April\, 29. April\, 06. Mai\, 13. Mai\, 20. Mai\, 10. Juni\, 17. Juni        
   Hinweis:    Kein Kurs in den Pfingstferien.      Teilnahmeinformationen: 
    Die Termine sind als Block buchbar\, es besteht keine Vertragsbindung und
  der Einstieg ist jederzeit m=C3=B6glich. Es werden keine Anmeldegeb=C3=BCh
 ren berechnet. Interessierte k=C3=B6nnen gerne eine Probestunde zum Ausprob
 ieren einzeln buchen. Die Teilnehmerzahl ist begrenzt.      Kontakt:    F
 =C3=BCr weitere Informationen und Anmeldung stehe ich gerne zur Verf=C3=BCg
 ung. Schreib mir einfach per E-Mail an=C2=A0tanzen(at)danielamax.de . Ich f
 reue mich =C3=BCber deine Nachricht! =20
URL:https://kalender.karlsruhe.de/db/termine/theater/jazz_dance_m_fruhlingskurs_ab_25_marz
CLASS:PUBLIC
DTSTART:20260325T183000
DTEND:20260617T193000
DTSTAMP:20260306T094618
CATEGORIES:Theater, Tanz
ATTACH:https://kalender.karlsruhe.de/db/termine/theater/jazz_dance_m_fruhlingskurs_ab_25_marz/file/icon_vadim-fomenok-ey00cTlefaE-unsplash.jpg
END:VEVENT

END:VCALENDAR
