BEGIN:VCALENDAR
VERSION:2.0
CALSCALE:GREGORIAN
PRODID:https://kalender.karlsruhe.de/db/termine/
METHOD:PUBLISH
BEGIN:VEVENT
UID:580642
ORGANIZER;CN=Badisches Staatstheater Karlsruhe:MAILTO:kartenservice@staatstheater.karlsruhe.de
LOCATION:Staatstheater, siehe Beschreibung
SUMMARY:Jazz & Literatur 4 (Der Einlass startet 30 Minuten vor Veranstaltungsbeginn)
DESCRIPTION;ENCODING=QUOTED-PRINTABLE:Lesung aus "Der B=C3=BCcherfreund" von Monika Helfer=0D=0A=0D=0A
URL:https://kalender.karlsruhe.de/db/termine/theater/jazz_literatur_4_der_einlass_startet
CLASS:PUBLIC
DTSTART:20260510T110000
DTEND:
DTSTAMP:20260331T175528
CATEGORIES:Theater, Tanz
ATTACH:https://kalender.karlsruhe.de/db/termine/theater/jazz_literatur_4_der_einlass_startet/file/icon_bsk_digitale_formate_jazzliteratur_4_stueckseite_680e712dade546.76453578.jpg
END:VEVENT

END:VCALENDAR
