BEGIN:VCALENDAR
VERSION:2.0
CALSCALE:GREGORIAN
PRODID:https://kalender.karlsruhe.de/db/termine/
METHOD:PUBLISH
BEGIN:VEVENT
UID:578841
ORGANIZER;CN=Die Spiegelfechter:MAILTO:info@spiegelfechter.de
LOCATION:Kabarett in der Orgelfabrik - die Spiegelfechter
SUMMARY:Jens Heinrich Claassen — Keine Ursache
DESCRIPTION;ENCODING=QUOTED-PRINTABLE:Es gibt Menschen\, die sind einfach zu nett f=C3=BCr diese Welt. Jens Heinri
 ch Claassen ist so einer.=0D=0A=0D=0A  Es gibt Menschen\, die sind einfach zu nett f
 =C3=BCr diese Welt. Jens Heinrich Claassen ist so einer. Er bedankt sich st
 =C3=A4ndig\, entschuldigt sich\, wenn er zu viel Entschuldigung gesagt hat\, u
 nd tr=C3=A4gt mit einem L=C3=A4cheln die B=C3=BCrde des Reichtums. Ja\, rich
 tig gelesen: Claassen ist reich =E2=80=93 und zwar so richtig. Aber Reichtu
 m allein macht bekanntlich nicht gl=C3=BCcklich\, zumindest nicht\, wenn man 
 ihn wie Jens Heinrich mit trockener Selbstironie und einer Vorliebe f=C3=BC
 r ehrliche\, kleine Momente des Lebens betrachtet.    In =E2=80=9EKeine Ursa
 che=E2=80=9C erz=C3=A4hlt Jens Heinrich Claassen von den wirklich wichtigen
  Dingen: dem =C3=9Cberleben in einer Gesellschaft\, in der H=C3=B6flichkeit 
 ein Relikt aus vergangenen Tagen zu sein scheint. Und nat=C3=BCrlich vom Le
 ben als Single. Hier wird=E2=80=99s pers=C3=B6nlich: Jens Heinrich w=C3=BCr
 de n=C3=A4mlich lieber heute als morgen seine Traumfrau finden\, doch der We
 g dahin ist mit T=C3=BCcken gepflastert. Tinder-Swipes\, charmant-uncharmant
 e erste Dates und die ein oder andere melancholische Klaviermelodie begleit
 en ihn dabei. Zwischen seinen Geschichten setzt er sich ans Klavier\, als w
 =C3=A4re es das Nat=C3=BCrlichste der Welt\, aus den absurden Alltagssituati
 onen spontan ein Lied zu zaubern. Es ist diese Mischung aus Leichtigkeit un
 d tiefsinnigem Humor\, die =E2=80=9EKeine Ursache=E2=80=9C zu einem Abend ma
 cht\, bei dem man sich herzlich am=C3=BCsiert und gleichzeitig wundert\, waru
 m man =C3=BCber diese Themen nicht selbst schon l=C3=A4ngst gelacht hat. We
 r einen Abend voller unerwarteter Pointen\, eing=C3=A4ngiger Melodien und ei
 nem sympathischen Komiker in Bestform erleben will\, sollte sich diese Show 
 auf keinen Fall entgehen lassen. =E2=80=9EKeine Ursache=E2=80=9C =E2=80=93 
 das Leben k=C3=B6nnte so einfach sein. Also: keine Ursache =E2=80=94 aber e
 ine klare Empfehlung!      Jens Heinrich Claassen reist seit 2004 als Komik
 er durch die Lande. Er ist      Publikumsliebling auf den Kreuzfahrtschiffe
 n der AIDA Flotte\, ein gern gesehener Gast im      Quatsch Comedy Club und 
 ein gefragter Moderator. Neben TV Auftritten hat er auch      einige unbede
 utende Kleinkunstpreise gewonnen. 2025 wird Claassen mit dem      Hannovera
 ner Spezialisten ausgezeichnet.      H=C3=B6hepunkte seiner bisherigen Karr
 iere waren Auftritte in den Berliner W=C3=BChlm=C3=A4usen\, dem      Hamburg
 er Schmidt Theater und dem D=C3=BCsseldorfer Kom(m)=C3=B6dchen.   =20
URL:https://kalender.karlsruhe.de/db/termine/theater/jens_heinrich_claassen_keine_ursache
CLASS:PUBLIC
DTSTART:20270122T201500
DTEND:20270122T220000
DTSTAMP:20260209T131205
CATEGORIES:Theater, Tanz
ATTACH:https://kalender.karlsruhe.de/db/termine/theater/jens_heinrich_claassen_keine_ursache/file/icon_2C8459C4-70EA-469A-8680-07BC7B8617CE.jpg
END:VEVENT

END:VCALENDAR
