BEGIN:VCALENDAR
VERSION:2.0
CALSCALE:GREGORIAN
PRODID:https://kalender.karlsruhe.de/db/termine/
METHOD:PUBLISH
BEGIN:VEVENT
UID:573664
ORGANIZER;CN=Die Spiegelfechter:MAILTO:info@spiegelfechter.de
LOCATION:Kabarett in der Orgelfabrik - die Spiegelfechter
SUMMARY:Jonas Greiner — Das brandneue Programm
DESCRIPTION;ENCODING=QUOTED-PRINTABLE:Comedy und Kabarett von und mit Jonas Greiner=0D=0A=0D=0A  Jonas Greiner ist mit 2\,
 07 Metern K=C3=B6rpergr=C3=B6=C3=9Fe der wohl gr=C3=B6=C3=9Fte Stand-Up-Com
 edian und Kabarettist Deutschlands. Er liefert in seinen Erz=C3=A4hlungen s
 pitze\, freche und ironische Gesellschaftskritik und Alltagsgeschichten\, ver
 packt in lustigen Erz=C3=A4hlungen und kombiniert mit hochkar=C3=A4tigem un
 d erfrischendem Humor. Eine einmalige Mischung\, die beste Unterhaltung vers
 pricht! Nach seinen beiden ersten Solos =E2=80=9EIn voller L=C3=A4nge=E2=80
 =9C und =E2=80=9EGreiner f=C3=BCr alle=E2=80=9C macht er jetzt mit seinem b
 randaktuellen neuen Programm in Hamm Station. Und l=C3=A4sst das Publikum f
 =C3=BCr einen Moment die Schwierigkeiten des Alltags vergessen.    Jonas Gr
 einer (* 1997) wuchs im kleinen St=C3=A4dtchen Lauscha im Th=C3=BCringer Wa
 ld auf. W=C3=A4hrend seiner Grundschulzeit lebte er in Sonneberg\, Berlin un
 d Steinach\, kehrte aber wieder in seine Heimatstadt zur=C3=BCck\, wo er auch
  bis heute lebt. Schon sein Sportlehrer bezeichnete ihn als Schauspieler\, e
 rstmals stand er 2016 beim B=C3=BCttenabend des hiesigen Karnevalsvereins a
 uf der B=C3=BChne. Von da an schien sein Weg vorgezeichnet: 2017 erreichte 
 er das Finale des Wettbewerbs Grazer Kleinkunstvogel\, ein Jahr sp=C3=A4ter 
 gewann er den St. Prosper Kabarettpreis Erding\, dem in den kommenden Jahren
  weitere Auszeichnungen folgen sollten.    Seitdem macht er erfolgreich die
  B=C3=BChnen im deutschsprachigen Raum unsicher\, und ist regelm=C3=A4=C3=9F
 iger Gast in diversen TV-Shows (z. B. =E2=80=9EVereinsheim Schwabing=E2=80
 =9C (BR)\, =E2=80=9EOlafs Klub=E2=80=9C (MDR) oder NightWash). In seinem =E2
 =80=9E=C3=9Cberblick=E2=80=9C auf YouTube schaut Greiner satirisch auf das 
 gesellschaftliche und politische Geschehen und macht sich im Podcast =E2=80
 =9EDie Weltmeisterschaft des Schwachsinns=E2=80=9C gemeinsam mit Comedy-Kol
 lege Quichotte auf die Suche nach dem gr=C3=B6=C3=9Ften Schwachsinn\, den di
 e Menschen im Laufe der Geschichte so verzapft haben: Verr=C3=BCckte Herrsc
 her\, bekloppte Verschw=C3=B6rungstheorien\, seltsame Gesetze und vieles mehr
 .      Seien Sie dabei. Wir freuen uns auf Sie!    =0D=0A    Eintrittspreise & 
 Eintritt      Regul=C3=A4rer Preis: 22 =E2=82=AC      Erm=C3=A4=C3=9Figung 
 f=C3=BCr Sch=C3=BCler und Studenten: 18 =E2=82=AC      Solidarit=C3=A4tstic
 ket: 25 =E2=82=AC      Einlass: 19:30 Uhr      Beginn: 20:15 Uhr   =20
URL:https://kalender.karlsruhe.de/db/termine/theater/jonas_greiner_das_brandneue_programm
CLASS:PUBLIC
DTSTART:20261205T201500
DTEND:20261205T220000
DTSTAMP:20250806T092748
CATEGORIES:Theater, Tanz
ATTACH:https://kalender.karlsruhe.de/db/termine/theater/jonas_greiner_das_brandneue_programm/file/icon_IMG_1537.jpg
END:VEVENT

END:VCALENDAR
