BEGIN:VCALENDAR
VERSION:2.0
CALSCALE:GREGORIAN
PRODID:https://kalender.karlsruhe.de/db/termine/
METHOD:PUBLISH
BEGIN:VEVENT
UID:579027
ORGANIZER;CN=marotte Theater:MAILTO:info@marotte-theater.de
LOCATION:marotte Theater
SUMMARY:Jumbo und Winz (ab 3)
DESCRIPTION;ENCODING=QUOTED-PRINTABLE:Nach dem bekannten Bilderbuch von =C3=88ric Battut=0D=0A=0D=0AJumbo und Winz sind b
 este Freunde. Doch jeder der beiden w=C3=A4re gern ein bisschen wie der and
 ere. Als sie in das geheimnisvolle Land hinter der Mauer reisen\, geht ihr W
 unsch in Erf=C3=BCllung. Mit ungeahnten Folgen=E2=80=A6  Eine z=C3=A4rtlich
 e Geschichte =C3=BCber Freundschaft und Akzeptanz =E2=80=93 auch sich selbs
 t gegen=C3=BCber.  Spiel: Friederike Krahl Regie: Eva Kaufmann\, Berlin=20
URL:https://kalender.karlsruhe.de/db/termine/theater/jumbo_und_winz_ab3n-7
CLASS:PUBLIC
DTSTART:20260503T110000
DTEND:20260503T114000
DTSTAMP:20260223T081119
CATEGORIES:Theater, Tanz
ATTACH:https://kalender.karlsruhe.de/db/termine/theater/jumbo_und_winz_ab3n-7/file/icon_Jumbo u. Winz 4.jpg
END:VEVENT

END:VCALENDAR
