BEGIN:VCALENDAR
VERSION:2.0
CALSCALE:GREGORIAN
PRODID:https://kalender.karlsruhe.de/db/termine/
METHOD:PUBLISH
BEGIN:VEVENT
UID:573564
ORGANIZER;CN=Die Spiegelfechter:MAILTO:info@spiegelfechter.de
LOCATION:Kabarett in der Orgelfabrik - die Spiegelfechter
SUMMARY:Jürgen Geisler & Steffen Schuhmacher (piano) › Tinpantithesis - Cole Porter - Words & Musik
DESCRIPTION;ENCODING=QUOTED-PRINTABLE:J=C3=BCrgen Geisler und Steffen Schuhmacher erz=C3=A4hlen in einer Revue vo
 n Musik und Text die Lebensgeschichte dieses in vieler Hinsicht au=C3=9Ferg
 ew=C3=B6hnlichen und ma=C3=9Fstabsetzenden Komponisten.=0D=0A=0D=0A  Ein Leben in L
 iedern      Mit Songklassikern wie =E2=80=9ENight And Day=E2=80=9C hat sich
  Cole Porter\, geboren 1891\, in die Musikgeschichte eingeschrieben. In der S
 wing =E2=80=93 =C3=84ra der 1930 =E2=80=93 Jahre setzte er mit bis dahin un
 erreichter musikalischer und textlicher Raffinesse noch heute g=C3=BCltige 
 Standards f=C3=BCr die Unterhaltungsmusik. Die Heirat mit einer Lady der Hi
 gh-Society erlaubte ihm die Freiheit\, sich musikalisch unabh=C3=A4ngig zu e
 ntwickeln. Unter dem Schutz dieser Ehe konnte er aber auch ein Leben f=C3
 =BChren\, f=C3=BCr das ihn die Sittenw=C3=A4chter seiner Zeit ins gesellscha
 ftliche Abseits gesto=C3=9Fen h=C3=A4tten\, w=C3=A4re es =C3=B6ffentlich gew
 orden.      J=C3=BCrgen Geisler und Steffen Schuhmacher erz=C3=A4hlen in ei
 ner Revue von Musik und Text die Lebensgeschichte dieses in vieler Hinsicht
  au=C3=9Fergew=C3=B6hnlichen und ma=C3=9Fstabsetzenden Komponisten.      Te
 rmin: =C2=A020.Juni 2025    Einlass: 19:30 Uhr | Beginn: 20:15 Uhr| Eintrit
 t: 22\,- =E2=82=AC erm.18\,- =20
URL:https://kalender.karlsruhe.de/db/termine/theater/jurgen_geisler_steffen_schuhmacher_piano-1
CLASS:PUBLIC
DTSTART:20260516T201500
DTEND:20260516T221500
DTSTAMP:20250806T092815
CATEGORIES:Theater, Tanz
ATTACH:https://kalender.karlsruhe.de/db/termine/theater/jurgen_geisler_steffen_schuhmacher_piano-1/file/icon_F22932F1-3F6F-40D1-8DAE-D1AF302A6267.jpg
END:VEVENT

END:VCALENDAR
