BEGIN:VCALENDAR
VERSION:2.0
CALSCALE:GREGORIAN
PRODID:https://kalender.karlsruhe.de/db/termine/
METHOD:PUBLISH
BEGIN:VEVENT
UID:580059
ORGANIZER;CN=Badisches Staatstheater Karlsruhe:MAILTO:kartenservice@staatstheater.karlsruhe.de
LOCATION:Staatstheater, siehe Beschreibung
SUMMARY:Karlsruhe am Wasser (Und jetzt! Wochen der Nachhaltigkeit)
DESCRIPTION;ENCODING=QUOTED-PRINTABLE:Ein Spaziergang entlang des Rheins=0D=0A=0D=0A
URL:https://kalender.karlsruhe.de/db/termine/theater/karlsruhe_am_wasser_und_jetzt_wochen_der_nachhaltigkeit
CLASS:PUBLIC
DTSTART:20260524T110000
DTEND:
DTSTAMP:20260401T175535
CATEGORIES:Theater, Tanz
ATTACH:https://kalender.karlsruhe.de/db/termine/theater/karlsruhe_am_wasser_und_jetzt_wochen_der_nachhaltigkeit/file/icon_bsk_2025-26_digitale-formate_karlsruhe-am-wasser_stueckinfo_69cc02e6733ab5.30874336.jpg
END:VEVENT

END:VCALENDAR
