BEGIN:VCALENDAR
VERSION:2.0
CALSCALE:GREGORIAN
PRODID:https://kalender.karlsruhe.de/db/termine/
METHOD:PUBLISH
BEGIN:VEVENT
UID:578312
ORGANIZER;CN=Die Spiegelfechter:MAILTO:info@spiegelfechter.de
LOCATION:Kabarett in der Orgelfabrik - die Spiegelfechter
SUMMARY:Karlsruhes Impro-Theater › Show
DESCRIPTION;ENCODING=QUOTED-PRINTABLE:B=C3=BChnensprung Improtheater spielt spontanes Improvisationstheater=0D=0A=0D=0A  
 B=C3=BChnensprung Improtheater spielt spontanes Improvisationstheater zu de
 n jeweiligen Themen wie =E2=80=9CNeues Jahr\, Neues Gl=C3=BCck=E2=80=9D\, =E2
 =80=9CSuperheldInnen=E2=80=9D und den beliebten =E2=80=9CImprokrimi Totort
 =E2=80=9D.    Wir zaubern =E2=80=91je nach Format- aus euren Vorschl=C3=A4g
 en und Inspirationen abenteuerliche Geschichten\, SuperheldInnen mit besonde
 ren F=C3=A4higkeiten\,=C2=A0einen spannenden Krimi\, alles gespickt mit=C2=A0
 ber=C3=BChrenden Liedern\, emotionalen Gedichten\, witzigen Games\, oder noch 
 etwas ganz anderes =C3=BCberraschendes. Das Ganze wird begleitet von wunder
 barer Live-Musik am Piano.    Komm vorbei genie=C3=9Fe einen Mini-Urlaub vo
 m Alltag mit Lachmuskeltraining und starte in die Woche mit positiven Vibra
 tions.    Seien Sie dabei. Wir freuen uns auf Sie!  =0D=0A    Eintrittspreise &
  Eintritt      Regul=C3=A4rer Preis: 17 =E2=82=AC      Erm=C3=A4=C3=9Figung
  f=C3=BCr Sch=C3=BCler und Studenten: 15 =E2=82=AC      Solidarit=C3=A4tsti
 cket: 25 =E2=82=AC      Einlass: 19:30 Uhr      Beginn: 20:15 Uhr   =20
URL:https://kalender.karlsruhe.de/db/termine/theater/karlsruhes_impro_theater_show
CLASS:PUBLIC
DTSTART:20260619T201500
DTEND:20260619T220000
DTSTAMP:20260212T100014
CATEGORIES:Theater, Tanz
ATTACH:https://kalender.karlsruhe.de/db/termine/theater/karlsruhes_impro_theater_show/file/icon_Bühnensprung Improtheater 1 Original.jpg
END:VEVENT

END:VCALENDAR
