BEGIN:VCALENDAR
VERSION:2.0
CALSCALE:GREGORIAN
PRODID:https://kalender.karlsruhe.de/db/termine/
METHOD:PUBLISH
BEGIN:VEVENT
UID:573565
ORGANIZER;CN=Die Spiegelfechter:MAILTO:info@spiegelfechter.de
LOCATION:Kabarett in der Orgelfabrik - die Spiegelfechter
SUMMARY:Kathi Wolf — 10 Jahre Kathi Wolf — Best of Show
DESCRIPTION;ENCODING=QUOTED-PRINTABLE:10 Jahre Kathi Wolf =E2=80=93 das ist kein Jubil=C3=A4um\, das ist eine Kath
 istrophe mit Ansage!=0D=0A=0D=0A        Save the date! Kathi Wolf feiert 10 Jahre K
 abarett!          Ein Jahrzehnt voller Rollen\, Pointen und Psychopartys =E2
 =80=93 und jetzt kommt das Beste vom Besten (und Schlechtesten)!        Was
  als reines Rollenkabarett begann\, wurde =C3=BCber die Jahre zu einem unver
 wechselbaren Mix aus politischem Kabarett\, bissiger Stand-up-Comedy und =C3
 =BCberraschend viel Musik. Mit ihrer einzigartigen Mischung aus Charme\, Sch
 arfsinn und Wahnsinn hat sich Kathi Wolf einen festen Platz auf den Kleinku
 nstb=C3=BChnen Deutschlands erspielt und ist Stammg=C3=A4stin im TV=E2=80
 =93 und das wird jetzt gefeiert! In ihrer               BEST OF SHOW       
        l=C3=A4sst Kathi noch einmal s=C3=A4mtliche Kultfiguren und Liebling
 srollen aus ihren bisherigen vier Programmen aufleben: =E2=80=93 =E2=80=9EK
 athistrophe =E2=80=93 made in Germany=E2=80=9C =E2=80=93 =E2=80=9EKathistro
 phe =E2=80=93 around the world=E2=80=9C =E2=80=93 =E2=80=9EPsychoparty =E2
 =80=93 psychisch korrekt. politisch defekt.=E2=80=9C =E2=80=93 =E2=80=9EKLA
 PSENBESTE=E2=80=9C      Nat=C3=BCrlich lassen es sich auch Kathis skurrilst
 e B=C3=BChnenfiguren nicht nehmen\, h=C3=B6chstpers=C3=B6nlich zum Jubil=C3
 =A4um zu erscheinen =E2=80=93 jede mit ihrer ganz eigenen Gratulation im Ge
 p=C3=A4ck. Zwischen Gl=C3=BCckw=C3=BCnschen\, R=C3=BCckblicken und Wortgefec
 hten entsteht ein Abend voller =C3=9Cberraschungen\, Widerspr=C3=BCche und k
 abarettistischer Eskalation. Freuen Sie sich auf die schr=C3=A4gsten\, schla
 gfertigsten und musikalischen H=C3=B6hepunkte aus zehn Jahren Kathi Wolf. D
 abei verspricht die Kabarettistin nicht nur ein Wiedersehen mit ihren beste
 n Nummern =E2=80=93 nein\, sie ist fest entschlossen\, auch ihre schlechteste
  Nummer aller Zeiten nochmal auszugraben. Warum? Weil sie=E2=80=99s kann. U
 nd weil Humor auch weh tun darf. Ein Abend zwischen Realit=C3=A4t und Rolle
  =E2=80=93 ehrlich\, albern\, anarchisch.       10 Jahre Kathi Wolf =E2=80=93
  das ist kein Jubil=C3=A4um\, das ist eine Kathistrophe mit Ansage!         
  Seien Sie dabei. Wir freuen uns auf Sie!    =0D=0A    Eintrittspreise & Eintri
 tt      Regul=C3=A4rer Preis: 22 =E2=82=AC      Erm=C3=A4=C3=9Figung f=C3
 =BCr Sch=C3=BCler und Studenten: 18 =E2=82=AC      Solidarit=C3=A4tsticket:
  25 =E2=82=AC      Einlass: 19:30 Uhr      Beginn: 20:15 Uhr   =20
URL:https://kalender.karlsruhe.de/db/termine/theater/kathi_wolf_10_jahre_kathi_wolf_best_of_show
CLASS:PUBLIC
DTSTART:20260529T201500
DTEND:20260529T220000
DTSTAMP:20250805T093836
CATEGORIES:Theater, Tanz
ATTACH:https://kalender.karlsruhe.de/db/termine/theater/kathi_wolf_10_jahre_kathi_wolf_best_of_show/file/icon_5C8E642A-B287-4A6B-92A3-51153F024FE9.jpg
END:VEVENT

END:VCALENDAR
