BEGIN:VCALENDAR
VERSION:2.0
CALSCALE:GREGORIAN
PRODID:https://kalender.karlsruhe.de/db/termine/
METHOD:PUBLISH
BEGIN:VEVENT
UID:578305
ORGANIZER;CN=Die Spiegelfechter:MAILTO:info@spiegelfechter.de
LOCATION:Kabarett in der Orgelfabrik - die Spiegelfechter
SUMMARY:Königs Ödipus
DESCRIPTION;ENCODING=QUOTED-PRINTABLE:Mit Freude und Leidenschaft erz=C3=A4hlt die Theatergruppe der Freien Waldo
 rfschule Karlsruhe die ber=C3=BChmte Geschichte des K=C3=B6nigs =C3=96dipus
  in der genialen B=C3=BChnenfassung von Bodo Wartke.=0D=0A=0D=0A  Mit Freude und Le
 idenschaft erz=C3=A4hlt die Theatergruppe der Freien Waldorfschule Karlsruh
 e die ber=C3=BChmte Geschichte des K=C3=B6nigs =C3=96dipus in der genialen 
 B=C3=BChnenfassung von Bodo Wartke\, Sven Sch=C3=BCtze und Carmen Kalisch.  
 =0D=0A  =C3=96dipus erschl=C3=A4gt unwissentlich seinen Vater\, den K=C3=B6nig v
 on Theben.  =0D=0A  Als Belohnung daf=C3=BCr\, dass er Theben von der Sphinx bef
 reit\, bekommt er Lokaste =E2=80=93 die Witwe des K=C3=B6nigs und damit sein
 e eigene Mutter =E2=80=93 zur Ehefrau.  =0D=0A  Bodo Wartkes Bearbeitung der kl
 assischen Trag=C3=B6die =E2=80=9CK=C3=B6nig =C3=96dipus=E2=80=9D bietet ein
 en leichten Einstieg in den weltbekannten Sagenstoff und vereint Kom=C3=B6d
 ie und Trag=C3=B6die zu einem unvergesslichen Theaterabend  =0D=0A  Genie=C3=9F
 en Sie mit uns ein einzigartiges Theatererlebnis am 9. oder 10. Mai im Kaba
 rett in der Orgelfabrik\, jeweils um 19 Uhr.    Seien Sie dabei. Wir freuen 
 uns auf Sie!  =0D=0A    Eintrittspreise & Eintritt auf Spendenbasis =20
URL:https://kalender.karlsruhe.de/db/termine/theater/konigs_odipus-1
CLASS:PUBLIC
DTSTART:20260510T190000
DTEND:20260510T211500
DTSTAMP:20260127T084008
CATEGORIES:Theater, Tanz
ATTACH:https://kalender.karlsruhe.de/db/termine/theater/konigs_odipus-1/file/icon_Oedipus-Probenbild-1200x1014.jpg
END:VEVENT

END:VCALENDAR
