BEGIN:VCALENDAR
VERSION:2.0
CALSCALE:GREGORIAN
PRODID:https://kalender.karlsruhe.de/db/termine/
METHOD:PUBLISH
BEGIN:VEVENT
UID:580604
ORGANIZER;CN=Badisches Staatstheater Karlsruhe:MAILTO:kartenservice@staatstheater.karlsruhe.de
LOCATION:Staatstheater, siehe Beschreibung
SUMMARY:Lese-Insel
DESCRIPTION;ENCODING=QUOTED-PRINTABLE:Welches Buch w=C3=BCrdet ihr mit auf eine einsame Insel nehmen?=0D=0A=0D=0A
URL:https://kalender.karlsruhe.de/db/termine/theater/lese_insel-1
CLASS:PUBLIC
DTSTART:20260522T160000
DTEND:
DTSTAMP:20260420T175527
CATEGORIES:Theater, Tanz
ATTACH:https://kalender.karlsruhe.de/db/termine/theater/lese_insel-1/file/icon_bsk_digitale-formate_lese-insel_stueckinfo_671f9839ef3197.39308822.jpg
END:VEVENT

END:VCALENDAR
