BEGIN:VCALENDAR
VERSION:2.0
CALSCALE:GREGORIAN
PRODID:https://kalender.karlsruhe.de/db/termine/
METHOD:PUBLISH
BEGIN:VEVENT
UID:579573
ORGANIZER;CN=Improtheater Karlsruhe:MAILTO:hello@improtheater-karlsruhe.com
LOCATION:marotte Theater
SUMMARY:Manu & Du
DESCRIPTION;ENCODING=QUOTED-PRINTABLE:Improtheater-Show=0D=0A=0D=0A    Wolltet Ihr schon immer mal selbst auf der Impro-B
 =C3=BChne stehen?      Bei =E2=80=9CManu & Du=E2=80=9D geht es um euch! Ein
 zelne Zuschauer:innen d=C3=BCrfen mitspielen und werden zu Hauptdarsteller:
 innen!  =0D=0A  Auf die B=C3=BChne gezwungen wird nat=C3=BCrlich niemand\, aber 
 alle bekommen die Chance dabei zu sein.   =20
URL:https://kalender.karlsruhe.de/db/termine/theater/manu_du
CLASS:PUBLIC
DTSTART:20260612T200000
DTEND:
DTSTAMP:20260226T120856
CATEGORIES:Theater, Tanz
ATTACH:https://kalender.karlsruhe.de/db/termine/theater/manu_du/file/icon_Impro_logo_basic.jpg
END:VEVENT

END:VCALENDAR
