BEGIN:VCALENDAR
VERSION:2.0
CALSCALE:GREGORIAN
PRODID:https://kalender.karlsruhe.de/db/termine/
METHOD:PUBLISH
BEGIN:VEVENT
UID:573566
ORGANIZER;CN=Die Spiegelfechter:MAILTO:info@spiegelfechter.de
LOCATION:Kabarett in der Orgelfabrik - die Spiegelfechter
SUMMARY:Mathias Tretter - SOUVERÄN
DESCRIPTION;ENCODING=QUOTED-PRINTABLE:Mathias Tretter besch=C3=A4ftigt sich konsequent mit den relevanten Themen 
 unserer immer undurchschaubarer werdenden Welt.=0D=0A=0D=0A  =E2=80=9ESouver=C3=A4n
  ist\, wer =C3=BCber den Ausnahmezustand entscheidet.=E2=80=9C =E2=80=93 Car
 l Schmitt war auch so ein Gro=C3=9Fmaul\, sonst w=C3=A4re er nicht G=C3=B6ri
 ngs Eierlik=C3=B6r geworden. Deutschlands =C3=A4rgster Advokat schrieb den 
 ber=C3=BChmten Satz 1928\, seitdem kauen wir drauf rum. Kaum hundert Jahre s
 p=C3=A4ter ist an jeder Ecke Ausnahmezustand =E2=80=93 aber wer ist Souver
 =C3=A4n?  =0D=0A  Die einen sagen so\, die anderen: das Volk\, die Wahrheit liegt
  wie immer ganz woanders. Mathias Tretter findet sie mal wieder bei Freund 
 Ansgar: =E2=80=9EBekifft sein ist Ausnahmezustand\, und ich hab=E2=80=99 mic
 h f=C3=BCr ihn entschieden.=E2=80=9C Der Demokratie mag die Herrschaft allm
 =C3=A4hlich abhanden kommen\, deshalb muss man noch lange nicht die Selbstbe
 herrschung verlieren. Es sei denn\, man n=C3=A4sst sich ein vor Lachen =E2
 =80=93 aber ist das nicht das Souver=C3=A4nste =C3=BCberhaupt?  =0D=0A  =E2=80
 =9ESie werden wiehern=E2=80=9C\, sagt Tretter\, der seit dem Salzburger Stier
  2023 nun endg=C3=BCltig mit jedem Kabarettpreis ausgezeichnet ist. Dennoch
  sei sein neuestes St=C3=BCck sein komischstes: =E2=80=9ESie werden feixen\,
  prusten\, schnappatmen und am Ende unverwundbar heimgehen.=E2=80=9C Mit and
 eren Worten: Souver=C3=A4n. Der Name ist Programm.    Website:     mathiast
 retter.de        Seien Sie dabei. Wir freuen uns auf Sie!    =0D=0A    Eintritt
 spreise & Eintritt      Regul=C3=A4rer Preis: 22 =E2=82=AC      Erm=C3=A4
 =C3=9Figung f=C3=BCr Sch=C3=BCler und Studenten: 18 =E2=82=AC      Einlass:
  19:30 Uhr      Beginn: 20:15 Uhr   =20
URL:https://kalender.karlsruhe.de/db/termine/theater/mathias_tretter_souveran
CLASS:PUBLIC
DTSTART:20260530T201500
DTEND:20260530T220000
DTSTAMP:20250805T094147
CATEGORIES:Theater, Tanz
ATTACH:https://kalender.karlsruhe.de/db/termine/theater/mathias_tretter_souveran/file/icon_A78378D1-B455-4E5D-8524-33DDC405D5B9_1_201_a.jpg
END:VEVENT

END:VCALENDAR
