BEGIN:VCALENDAR
VERSION:2.0
CALSCALE:GREGORIAN
PRODID:https://kalender.karlsruhe.de/db/termine/
METHOD:PUBLISH
BEGIN:VEVENT
UID:580072
ORGANIZER;CN=Daniela Max Tanzen in Karlsruhe:MAILTO:tanzen@danielamax.de
LOCATION:Tanzando
SUMMARY:Modern Dance Frühlingskurs für Anfänger & Mittelstufe ab 25. März
DESCRIPTION;ENCODING=QUOTED-PRINTABLE:F=C3=BCr alle\, die Lust haben\, Modern Dance zu tanzen und einsteigen m=C3
 =B6chten\, biete ich einen Kurs an\, der sich f=C3=BCr Anf=C3=A4nger und die 
 Mittelstufe eignet.=0D=0A=0D=0A    Was ist Modern Dance?    Der moderne Tanz\, auch 
 als Contemporary Dance bekannt\, ist eine faszinierende Form k=C3=BCnstleris
 chen Ausdrucks\, die sich von traditionellen Tanzstilen abhebt und eine einz
 igartige Synthese aus verschiedenen Bewegungsformen darstellt. Die Bewegung
 en im modernen Tanz sind oft flie=C3=9Fend\, organisch und abstrakt. T=C3=A4
 nzerInnen nutzen den gesamten K=C3=B6rper\, einschlie=C3=9Flich unkonvention
 eller Bewegungen wie Bodenarbeit\, improvisierten Schritten und unregelm=C3
 =A4=C3=9Figen Formen. Diese Freiheit erm=C3=B6glicht es zu tanzen\, ohne auf
  traditionelle Ballettpositionen oder -techniken beschr=C3=A4nkt zu sein. E
 in weiteres charakteristisches Merkmal des modernen Tanzes ist die enge Ver
 bindung zur Musik\, oft wird mit zeitgen=C3=B6ssischer Musik gearbeitet.    
   Kursinhalte:    In meinem Kurs erwartet dich ein umfassendes Training mit
  modernem Warm-up (Pli=C3=A9s\, Tendues\, Swings\, Floorwork etc.)\, Muskelkr
 =C3=A4ftigung\, Stretching und Diagonalen. Mit Begeisterung\, Geduld und Hing
 abe arbeiten wir an der Technik und bereiten den K=C3=B6rper optimal auf di
 e abschlie=C3=9Fende Choreografie vor. Mein Ziel ist es\, Freude am Tanzen z
 u erleben\, loszulassen und gleichzeitig Neues zu lernen!      Kurszeiten un
 d -ort:            Mittwochskurs:        =0D=0A         Wann:        17:30 Uhr 
 bis 18:30 Uhr    =0D=0A         Wo:        Tanzando\, Douglasstr. 24/26\, 76133 K
 arlsruhe    =0D=0A         Termine:        25. M=C3=A4rz\, 01. April\, 08. April\,
  15. April\, 22. April\, 29. April\, 06. Mai\, 13. Mai\, 20. Mai\, 10. Juni\, 17. 
 Juni          Hinweis:    Kein Kurs in den Pfingstferien.      Teilnahmeinf
 ormationen:    Die Kurse sind als Block buchbar\, es besteht keine Vertragsb
 indung und der Einstieg ist jederzeit m=C3=B6glich. Es werden keine Anmelde
 geb=C3=BChren berechnet. Interessierte k=C3=B6nnen gerne eine Probestunde z
 um Ausprobieren einzeln buchen. Die Teilnehmerzahl ist begrenzt.      Konta
 kt:    F=C3=BCr weitere Informationen und Anmeldung stehe ich gerne zur Ver
 f=C3=BCgung. Schreib mir einfach per E-Mail an=C2=A0tanzen(at)danielamax.de
 =C2=A0. Ich freue mich auf deine Nachricht! =20
URL:https://kalender.karlsruhe.de/db/termine/theater/modern_dance_fruhlingskurs_fur_anfanger
CLASS:PUBLIC
DTSTART:20260325T173000
DTEND:20260617T183000
DTSTAMP:20260324T094230
CATEGORIES:Theater, Tanz
ATTACH:https://kalender.karlsruhe.de/db/termine/theater/modern_dance_fruhlingskurs_fur_anfanger/file/icon_Frühling-Homepage.jpg
END:VEVENT

END:VCALENDAR
