BEGIN:VCALENDAR
VERSION:2.0
CALSCALE:GREGORIAN
PRODID:https://kalender.karlsruhe.de/db/termine/
METHOD:PUBLISH
BEGIN:VEVENT
UID:578845
ORGANIZER;CN=Die Spiegelfechter:MAILTO:info@spiegelfechter.de
LOCATION:Kabarett in der Orgelfabrik - die Spiegelfechter
SUMMARY:Murzarella-Best of! Puppet- Comedy- Show!
DESCRIPTION;ENCODING=QUOTED-PRINTABLE:Eine S=C3=A4ngerin\, eine heimwerkelnde Kanalratte\, eine Dame im besten Alte
 r\, eine vegan L=C3=B6win und ein verr=C3=BCckter Kakadu. Eine Bauchrednersh
 ow mit allem was das Herz begehrt.=0D=0A=0D=0A  Murzarella beherrscht nicht nur die
  Kunst des Bauchredens\, sondern auch die Kunst des Bauchgesangs. Wer es noc
 h nicht erlebt hat\, glaubt es nicht =E2=80=93 doch alles ist live gesungen.
     Die mehrfach mit Comedypreisen ausgezeichnete K=C3=BCnstlerin pr=C3=A4s
 entiert ihre neue musikalische Puppet-Comedy-Show in einem =E2=80=9CBEST OF
 =E2=80=A6!=E2=80=9D    Website:     murzarella.de        Seien Sie dabei. W
 ir freuen uns auf Sie!    =0D=0A    Eintrittspreise & Eintritt      Regul=C3=A4
 rer Preis: 22 =E2=82=AC      Erm=C3=A4=C3=9Figung f=C3=BCr Sch=C3=BCler und
  Studenten: 18 =E2=82=AC      Einlass: 19:30 Uhr      Beginn: 20:15 Uhr   
 =20
URL:https://kalender.karlsruhe.de/db/termine/theater/murzarella_best_of_puppet_comedy_show-2
CLASS:PUBLIC
DTSTART:20270424T201500
DTEND:20270424T220000
DTSTAMP:20260209T131214
CATEGORIES:Theater, Tanz
ATTACH:https://kalender.karlsruhe.de/db/termine/theater/murzarella_best_of_puppet_comedy_show-2/file/icon_Motiv Murzarella - Neues Programm ohne Infos quer (Übergang).jpg
END:VEVENT

END:VCALENDAR
