BEGIN:VCALENDAR
VERSION:2.0
CALSCALE:GREGORIAN
PRODID:https://kalender.karlsruhe.de/db/termine/
METHOD:PUBLISH
BEGIN:VEVENT
UID:580058
ORGANIZER;CN=Badisches Staatstheater Karlsruhe:MAILTO:kartenservice@staatstheater.karlsruhe.de
LOCATION:Staatstheater, siehe Beschreibung
SUMMARY:Paradies gestalten (Und jetzt! Wochen der Nachhaltigkeit)
DESCRIPTION;ENCODING=QUOTED-PRINTABLE:Kinder-Workshop=0D=0A=0D=0A
URL:https://kalender.karlsruhe.de/db/termine/theater/paradies_gestalten_und_jetzt_wochen_der_nachhaltigkeit
CLASS:PUBLIC
DTSTART:20260523T150000
DTEND:
DTSTAMP:20260401T175535
CATEGORIES:Theater, Tanz
ATTACH:https://kalender.karlsruhe.de/db/termine/theater/paradies_gestalten_und_jetzt_wochen_der_nachhaltigkeit/file/icon_bsk_2025-26_digitale-formate_paradies-gestalten_stueckinfo_69cc0321b242c0.08045827.jpg
END:VEVENT

END:VCALENDAR
