BEGIN:VCALENDAR
VERSION:2.0
CALSCALE:GREGORIAN
PRODID:https://kalender.karlsruhe.de/db/termine/
METHOD:PUBLISH
BEGIN:VEVENT
UID:580303
ORGANIZER;CN=Badisches Staatstheater Karlsruhe:MAILTO:kartenservice@staatstheater.karlsruhe.de
LOCATION:Staatstheater, siehe Beschreibung
SUMMARY:Paradise Found - Die Tour
DESCRIPTION;ENCODING=QUOTED-PRINTABLE:=C2=A0=0D=0A=0D=0A
URL:https://kalender.karlsruhe.de/db/termine/theater/paradise_found_die_tour-2
CLASS:PUBLIC
DTSTART:20260523T164500
DTEND:
DTSTAMP:20260321T175542
CATEGORIES:Theater, Tanz
ATTACH:https://kalender.karlsruhe.de/db/termine/theater/paradise_found_die_tour-2/file/icon_bsk_2025-26_stueckinfo_paradise-found_686786f2001a55.11817783.jpg
END:VEVENT

END:VCALENDAR
