BEGIN:VCALENDAR
VERSION:2.0
CALSCALE:GREGORIAN
PRODID:https://kalender.karlsruhe.de/db/termine/
METHOD:PUBLISH
BEGIN:VEVENT
UID:579037
ORGANIZER;CN=marotte Theater:MAILTO:info@marotte-theater.de
LOCATION:marotte Theater
SUMMARY:Pettersson zeltet (ab 5)
DESCRIPTION;ENCODING=QUOTED-PRINTABLE:Nach dem bekannten Bilderbuch von Sven Nordqvist=0D=0A=0D=0A  Der alte Pettersson w
 ill mit seinem Kater Findus angeln gehen. Auf seinem Dachboden hat Petterss
 on eine Flitzebogenwurfangel erfunden und will sie nun mit Findus am See au
 sprobieren. Das Zelt nehmen sie auch gleich mit\, um einen Ausflug in die Be
 rge zu machen. Aber aus der Zeltidylle wird nichts! Und das nur wegen der b
 l=C3=B6den H=C3=BChner\, die partout auch ausprobieren wollen\, wie das ist\, 
 in einem Zelt zu schlafen.    Spiel: Thomas H=C3=A4nsel Regie: J=C3=B6rg Br
 ettschneider =20
URL:https://kalender.karlsruhe.de/db/termine/theater/pettersson_zeltet_ab5n-16
CLASS:PUBLIC
DTSTART:20260517T140000
DTEND:20260517T145000
DTSTAMP:20260223T081157
CATEGORIES:Theater, Tanz
ATTACH:https://kalender.karlsruhe.de/db/termine/theater/pettersson_zeltet_ab5n-16/file/icon_Pettersson zeltet.jpg
END:VEVENT

END:VCALENDAR
