BEGIN:VCALENDAR
VERSION:2.0
CALSCALE:GREGORIAN
PRODID:https://kalender.karlsruhe.de/db/termine/
METHOD:PUBLISH
BEGIN:VEVENT
UID:579161
ORGANIZER;CN=marotte Theater:MAILTO:info@marotte-theater.de
LOCATION:marotte Theater
SUMMARY:Petterssons Feuerwerk für den Fuchs (ab 5)
DESCRIPTION;ENCODING=QUOTED-PRINTABLE:Sommerfest in der marotte!=0D=0A=0D=0A    Nach dem bekannten Bilderbuch von Sven No
 rdqvist      Der Nachbar Gustavsson ist mit seinem Hund Bello auf der Jagd 
 nach dem Fuchs\, der ihm ein Huhn geklaut hat. Auch Pettersson soll sein Gew
 ehr bereithalten. Doch Findus ist der Meinung\, dass man F=C3=BCchse nicht e
 rschie=C3=9Fen soll\, sondern reinlegen.  So lassen sich Pettersson und Find
 us einiges einfallen\, um den Fuchs zu verjagen. Ein explodierendes Huhn\, ei
 n Feuerwerk und ein spukender Kater =E2=80=93 das m=C3=BCsste eigentlich re
 ichen...    Spiel: Thomas H=C3=A4nsel    Regie: J=C3=B6rg Brettschneider 
 =20
URL:https://kalender.karlsruhe.de/db/termine/theater/petterssons_feuerwerk_fur_den_fuchs_ab5n-20
CLASS:PUBLIC
DTSTART:20260802T150000
DTEND:20260802T154500
DTSTAMP:20260306T094750
CATEGORIES:Theater, Tanz
ATTACH:https://kalender.karlsruhe.de/db/termine/theater/petterssons_feuerwerk_fur_den_fuchs_ab5n-20/file/icon_Sommerfest-P2.jpg
END:VEVENT

END:VCALENDAR
