BEGIN:VCALENDAR
VERSION:2.0
CALSCALE:GREGORIAN
PRODID:https://kalender.karlsruhe.de/db/termine/
METHOD:PUBLISH
BEGIN:VEVENT
UID:578168
ORGANIZER;CN=marotte Theater:MAILTO:info@marotte-theater.de
LOCATION:marotte Theater
SUMMARY:Pu, der Bär (ab 4)
DESCRIPTION;ENCODING=QUOTED-PRINTABLE:Geschichten =C3=BCber den ber=C3=BChmtesten B=C3=A4ren der Welt\, neu erz=C3
 =A4hlt f=C3=BCr Kinder ab 4 Jahren.=0D=0A=0D=0A  Im Kinderzimmer von Christopher is
 t was los. Hier kommt Pu\, der B=C3=A4r und erlebt mit seinen Freunden Ferke
 l\, Esel I-A und Kaninchen ein Abenteuer nach dem anderen. Ein Geburtstag mu
 ss gerettet werden\, Ferkel geht verloren\, das gef=C3=A4hrliche Wuschel schl
 eicht durch den Wald und dann taucht auch noch ein ungest=C3=BCmer Tiger au
 f und stellt alles auf den Kopf. Es braucht unersch=C3=BCtterliche Zuversic
 ht und einen starken Charakter\, um das durchzustehen!  Pu hat alle Pfoten v
 oll zu tun.  =0D=0A    Spiel: Jan Mixsa=C2=A0=C2=A0=C2=A0 Regie: Friederike Kra
 hl =20
URL:https://kalender.karlsruhe.de/db/termine/theater/pu_der_bar_ab4n-22
CLASS:PUBLIC
DTSTART:20260222T110000
DTEND:20260222T114500
DTSTAMP:20260120T085247
CATEGORIES:Theater, Tanz
ATTACH:https://kalender.karlsruhe.de/db/termine/theater/pu_der_bar_ab4n-22/file/icon_PU, der Bär Pressefoto.jpg
END:VEVENT

END:VCALENDAR
