BEGIN:VCALENDAR
VERSION:2.0
CALSCALE:GREGORIAN
PRODID:https://kalender.karlsruhe.de/db/termine/
METHOD:PUBLISH
BEGIN:VEVENT
UID:579156
ORGANIZER;CN=marotte Theater:MAILTO:info@marotte-theater.de
LOCATION:marotte Theater
SUMMARY:Pu, der Bär (ab 4)
DESCRIPTION;ENCODING=QUOTED-PRINTABLE:Sommerfest in der marotte!=0D=0A=0D=0A    Geschichten =C3=BCber den ber=C3=BChmtest
 en B=C3=A4ren der Welt\, neu erz=C3=A4hlt f=C3=BCr Kinder ab 4 Jahren.      
 Im Kinderzimmer von Christopher ist was los. Hier kommt Pu\, der B=C3=A4r un
 d erlebt mit seinen Freunden Ferkel\, Esel I-A und Kaninchen ein Abenteuer n
 ach dem anderen. Ein Geburtstag muss gerettet werden\, Ferkel geht verloren\,
  das gef=C3=A4hrliche Wuschel schleicht durch den Wald und dann taucht auch
  noch ein ungest=C3=BCmer Tiger auf und stellt alles auf den Kopf. Es brauc
 ht unersch=C3=BCtterliche Zuversicht und einen starken Charakter\, um das du
 rchzustehen!  Pu hat alle Pfoten voll zu tun.    Spiel: Jan Mixsa=C2=A0=C2
 =A0=C2=A0 Regie: Friederike Krahl =20
URL:https://kalender.karlsruhe.de/db/termine/theater/pu_der_bar_ab4n-25
CLASS:PUBLIC
DTSTART:20260730T100000
DTEND:20260730T104500
DTSTAMP:20260306T094756
CATEGORIES:Theater, Tanz
ATTACH:https://kalender.karlsruhe.de/db/termine/theater/pu_der_bar_ab4n-25/file/icon_Sommerfest-PU.jpg
END:VEVENT

END:VCALENDAR
