BEGIN:VCALENDAR
VERSION:2.0
CALSCALE:GREGORIAN
PRODID:https://kalender.karlsruhe.de/db/termine/
METHOD:PUBLISH
BEGIN:VEVENT
UID:579179
ORGANIZER;CN=marotte Theater:MAILTO:info@marotte-theater.de
LOCATION:marotte Theater
SUMMARY:Räuber Hotzenplotz (ab 5 Jahren)
DESCRIPTION;ENCODING=QUOTED-PRINTABLE:von Otfried Preu=C3=9Fler=0D=0A=0D=0A  Der R=C3=A4uber Hotzenplotz =E2=80=93 das is
 t ein Schlimmer! Er nimmt alles mit\, was ihm unter die Finger kommt\, sogar 
 die Kaffeem=C3=BChle der Gro=C3=9Fmutter. Dabei hat sie diese gerade erst v
 on Kasperl und seinem Freund Seppel als Geburtstagsgeschenk bekommen. Sofor
 t nehmen die Freunde die Verfolgung auf. Doch trotz aller Vorsicht landen s
 ie in der Gewalt des gef=C3=A4hrlichen R=C3=A4ubers.  =0D=0A  Hotzenplotz will 
 Kasperl sogar an den m=C3=A4chtigen Zauberer Petrosilius Zwackelmann verkau
 fen!  =0D=0A  Da ist guter Rat teuer=E2=80=A6    =0D=0A  Ein rasantes Handpuppenspi
 el in einer drehbaren Kasperbude. =20
URL:https://kalender.karlsruhe.de/db/termine/theater/rauber_hotzenplotz_ab_5_jahren-2
CLASS:PUBLIC
DTSTART:20260507T100000
DTEND:20260507T105000
DTSTAMP:20260223T081135
CATEGORIES:Theater, Tanz
ATTACH:https://kalender.karlsruhe.de/db/termine/theater/rauber_hotzenplotz_ab_5_jahren-2/file/icon_Hotzenplotz-01 300dpi.jpg
END:VEVENT

END:VCALENDAR
