BEGIN:VCALENDAR
VERSION:2.0
CALSCALE:GREGORIAN
PRODID:https://kalender.karlsruhe.de/db/termine/
METHOD:PUBLISH
BEGIN:VEVENT
UID:581086
ORGANIZER;CN=Badisches Staatstheater Karlsruhe:MAILTO:kartenservice@staatstheater.karlsruhe.de
LOCATION:Badisches Staatstheater, INSEL
SUMMARY:Robin Hood (Inklusive Audiodeskription und Verdolmetschung in Deutsche Gebärdensprache)
DESCRIPTION;ENCODING=QUOTED-PRINTABLE:Alles f=C3=BCr alle und nix f=C3=BCr niemand!=0D=0A=0D=0A
URL:https://kalender.karlsruhe.de/db/termine/theater/robin_hood_inklusive_audiodeskription-4
CLASS:PUBLIC
DTSTART:20260422T100000
DTEND:
DTSTAMP:20260420T175519
CATEGORIES:Theater, Tanz
ATTACH:https://kalender.karlsruhe.de/db/termine/theater/robin_hood_inklusive_audiodeskription-4/file/icon_bsk_2024_25_digitale-formate_robin_hood_stueckseite_668e9c65f3b4d5.15680211.jpg
END:VEVENT

END:VCALENDAR
