BEGIN:VCALENDAR
VERSION:2.0
CALSCALE:GREGORIAN
PRODID:https://kalender.karlsruhe.de/db/termine/
METHOD:PUBLISH
BEGIN:VEVENT
UID:579190
ORGANIZER;CN=marotte Theater:MAILTO:info@marotte-theater.de
LOCATION:marotte Theater
SUMMARY:Rocky Waschbär (ab 4 Jahren)
DESCRIPTION;ENCODING=QUOTED-PRINTABLE:Sommerfest in der marotte!=0D=0A=0D=0A    nach dem bekannten Kinderbuch von Michael
  Engler      Manuel wohnt zusammen mit einem Waschb=C3=A4r. Er hei=C3=9Ft R
 ocky. Rocky denkt sich gern Geschichten aus. Heut ist er ein cooler Held im
  Wilden Westen von Amerika. Rocky will immer der Bestimmer sein. Ganz sch
 =C3=B6n anstrengend\, findet Manuel. Und als dann auch noch der Apfelkuchen 
 weg ist\, dreht er den Spie=C3=9F um und wird zum gef=C3=BCrchteten Sheriff 
 Sam.    Ein St=C3=BCck =C3=BCbers zusammen Spielen\, Streiten und Vertragen.
  =20
URL:https://kalender.karlsruhe.de/db/termine/theater/rocky_waschbar_ab_4_jahren-4
CLASS:PUBLIC
DTSTART:20260730T180000
DTEND:20260730T184500
DTSTAMP:20260306T094757
CATEGORIES:Theater, Tanz
ATTACH:https://kalender.karlsruhe.de/db/termine/theater/rocky_waschbar_ab_4_jahren-4/file/icon_Sommerfest-RW.jpg
END:VEVENT

END:VCALENDAR
