BEGIN:VCALENDAR
VERSION:2.0
CALSCALE:GREGORIAN
PRODID:https://kalender.karlsruhe.de/db/termine/
METHOD:PUBLISH
BEGIN:VEVENT
UID:581090
ORGANIZER;CN=Badisches Staatstheater Karlsruhe:MAILTO:kartenservice@staatstheater.karlsruhe.de
LOCATION:Badisches Staatstheater, Großes Haus
SUMMARY:Romeo und Julia (Einführung mit Verdolmetschung in Deutsche Gebärdensprache)
DESCRIPTION;ENCODING=QUOTED-PRINTABLE:Ballett von Jean-Christophe Maillot=0D=0A=0D=0A
URL:https://kalender.karlsruhe.de/db/termine/theater/romeo_und_julia_einfuhrung_mit_verdolmetschung
CLASS:PUBLIC
DTSTART:20260628T183000
DTEND:
DTSTAMP:20260420T175537
CATEGORIES:Theater, Tanz
ATTACH:https://kalender.karlsruhe.de/db/termine/theater/romeo_und_julia_einfuhrung_mit_verdolmetschung/file/icon_bsk_2024_25_digitale-formate_romeo-und-julia_stueckseite_67fcd1b27ce784.31538675.jpg
END:VEVENT

END:VCALENDAR
