BEGIN:VCALENDAR
VERSION:2.0
CALSCALE:GREGORIAN
PRODID:https://kalender.karlsruhe.de/db/termine/
METHOD:PUBLISH
BEGIN:VEVENT
UID:579174
ORGANIZER;CN=marotte Theater:MAILTO:info@marotte-theater.de
LOCATION:marotte Theater
SUMMARY:Royal mit Käse
DESCRIPTION;ENCODING=QUOTED-PRINTABLE:Pulp. Fiction. Puppetry.=0D=0A=0D=0A  Eine goldene Uhr. Ein Boxer.=C2=A0Zwei Auftra
 gskiller. Vier Tage Gewalt und Erl=C3=B6sung. Quentin Tarantinos Film =E2
 =80=9EPulp Fiction=E2=80=9C steht auf der Liste der =E2=80=9EAll-Time 100 M
 ovies=E2=80=9C=C2=A0des=C2=A0Time-Magazins. Jan Mixsa brennt dieses filmisc
 he Feuerwerk nun auf der Theaterb=C3=BChne ab. Mit und ohne Puppen\, geniale
 m Wahnsinn\, lakonischem Humor und =E2=80=A6 =C3=A4h =E2=80=A6 neuralgischer
  Diffusit=C3=A4t. Oder so. It=E2=80=99s a Chopper\, Baby!    Spiel: Jan Mixs
 a=C2=A0 Regie: Carsten Dittrich=C2=A0 Ausstattung: Matthias H=C3=A4nsel =20
URL:https://kalender.karlsruhe.de/db/termine/theater/royal_mit_kase-2
CLASS:PUBLIC
DTSTART:20260423T190000
DTEND:20260423T203000
DTSTAMP:20260324T092957
CATEGORIES:Theater, Tanz
ATTACH:https://kalender.karlsruhe.de/db/termine/theater/royal_mit_kase-2/file/icon_Royal mit Käse - quadratisch.jpg
END:VEVENT

END:VCALENDAR
