BEGIN:VCALENDAR
VERSION:2.0
CALSCALE:GREGORIAN
PRODID:https://kalender.karlsruhe.de/db/termine/
METHOD:PUBLISH
BEGIN:VEVENT
UID:579191
ORGANIZER;CN=marotte Theater:MAILTO:info@marotte-theater.de
LOCATION:marotte Theater
SUMMARY:Royal mit Käse
DESCRIPTION;ENCODING=QUOTED-PRINTABLE:Sommerfest in der marotte!=0D=0A=0D=0A    Pulp. Fiction. Puppetry.      Eine golden
 e Uhr. Ein Boxer.=C2=A0Zwei Auftragskiller. Vier Tage Gewalt und Erl=C3=B6s
 ung. Quentin Tarantinos Film =E2=80=9EPulp Fiction=E2=80=9C steht auf der L
 iste der =E2=80=9EAll-Time 100 Movies=E2=80=9C=C2=A0des=C2=A0Time-Magazins.
  Jan Mixsa brennt dieses filmische Feuerwerk nun auf der Theaterb=C3=BChne 
 ab. Mit und ohne Puppen\, genialem Wahnsinn\, lakonischem Humor und =E2=80=A6
  =C3=A4h =E2=80=A6 neuralgischer Diffusit=C3=A4t. Oder so. It=E2=80=99s a C
 hopper\, Baby!    Spiel: Jan Mixsa=C2=A0 Regie: Carsten Dittrich=C2=A0 Ausst
 attung: Matthias H=C3=A4nsel =20
URL:https://kalender.karlsruhe.de/db/termine/theater/royal_mit_kase-5
CLASS:PUBLIC
DTSTART:20260801T220000
DTEND:20260801T233000
DTSTAMP:20260324T093001
CATEGORIES:Theater, Tanz
ATTACH:https://kalender.karlsruhe.de/db/termine/theater/royal_mit_kase-5/file/icon_Sommerfest _RO.jpg
END:VEVENT

END:VCALENDAR
