BEGIN:VCALENDAR
VERSION:2.0
CALSCALE:GREGORIAN
PRODID:https://kalender.karlsruhe.de/db/termine/
METHOD:PUBLISH
BEGIN:VEVENT
UID:578846
ORGANIZER;CN=Die Spiegelfechter:MAILTO:info@spiegelfechter.de
LOCATION:Kabarett in der Orgelfabrik - die Spiegelfechter
SUMMARY:Sabine Murza — Das neue Programm- Murzarellas Vorpremiere
DESCRIPTION;ENCODING=QUOTED-PRINTABLE:Weitere Infos folgen sobald sie uns bekannt sind.=0D=0A=0D=0A  Murzarella lie=C3=9F
  im Forum die Puppen singen    =E2=80=9EDie Einleitung h=C3=A4tte eine Einl
 adung zur Yoga-Stunde sein k=C3=B6nnen: =E2=80=9E=C3=96ffnen Sie Augen\, Ohr
 en und Geist. Atmen Sie ein\, und atmen Sie aus=E2=80=9C\, raunte eine Stimme
  aus dem Off. Doch statt Entspannung und Meditation erwartete das Publikum 
 im ausverkauften Forum St. Hubert Murzarellas quietschlebendige Music-Puppe
 t-Comedy-Show mit kleinem S=C3=A4ngerkrieg\, Bauch-Ges=C3=A4ngen und =E2=80
 =9Eanderen Ungereimtheiten=E2=80=9C.    =E2=80=A6 Daf=C3=BCr lohnte es tats
 =C3=A4chlich Augen\, Ohren und Geist zu =C3=B6ffnen. Denn die mehrfach ausge
 zeichnete Comedienne punktete mit grandioser Puppengesellschaft\, witzigen T
 exten und wandlungsfreudiger Stimme. =E2=80=A6 Temperamentvoll bewies die B
 auchrednerin und Bauchs=C3=A4ngerin\, dass ihre Energie f=C3=BCr drei weiter
 e B=C3=BChnenakteure problemlos ausreicht. Wie Murza es schafft\, die Sanges
 einlagen der Puppen scheinbar staunend zur Kenntnis zu nehmen und doch s=C3
 =A4ngerisch Vollgas zu geben\, bleibt auch aus den ersten Reihen ein R=C3=A4
 tsel.    Das alles war so witzig und lebendig inszeniert\, dass Besucherinne
 n und Besuchern zuweilen der Atem gestockt haben mochte\, der die S=C3=A4nge
 rin nicht einmal verlie=C3=9F.  =0D=0A  H=C3=B6hepunkte erstaunlicher Wandlungs
 f=C3=A4higkeit im Sekundentakt waren das Gesangsduell mit Kakadu sowie das 
 Terzett mit Adelheid und Kalle zum Song =E2=80=9ETime to say good bye=E2=80
 =9C =E2=80=93 mit leichtem Kr=C3=A4chzen von Dudu und gro=C3=9Fer Pose der 
 wunderlichen Frau Adelheid. Das Publikum dankte mit langem\, begeistertem Be
 ifall.=E2=80=9C  =0D=0A  (Rheinische Post Online 23.12.2023) =20
URL:https://kalender.karlsruhe.de/db/termine/theater/sabine_murza_das_neue_programm_murzarellas_vorpremiere
CLASS:PUBLIC
DTSTART:20270626T201500
DTEND:20270626T220000
DTSTAMP:20260209T131231
CATEGORIES:Theater, Tanz
ATTACH:https://kalender.karlsruhe.de/db/termine/theater/sabine_murza_das_neue_programm_murzarellas_vorpremiere/file/icon_Murzarella-Dudu-II-1030x1030.jpg
END:VEVENT

END:VCALENDAR
