BEGIN:VCALENDAR
VERSION:2.0
CALSCALE:GREGORIAN
PRODID:https://kalender.karlsruhe.de/db/termine/
METHOD:PUBLISH
BEGIN:VEVENT
UID:578842
ORGANIZER;CN=Die Spiegelfechter:MAILTO:info@spiegelfechter.de
LOCATION:Kabarett in der Orgelfabrik - die Spiegelfechter
SUMMARY:Severin Gröbner  - Ich bin das Volk
DESCRIPTION;ENCODING=QUOTED-PRINTABLE:Hier kommt ein Autokrat zum Knutschen. - Das neue Programm!=0D=0A=0D=0A  Ein Regier
 ungsprogramm von seiner Severinit=C3=A4t in Groebner Verfassung.  =0D=0A    Es 
 soll da blo=C3=9F keiner auf bl=C3=B6de Ideen kommen. Der kleine Mann auf d
 er Stra=C3=9Fe\, das ist immer noch ein Mensch wie Du und ich. Fragen wir ih
 n also\, den kleinen Mann.Erste Frage: warum ist der kleine Mann eigentlich 
 immer auf der Stra=C3=9Fe? Hat er kein zu Hause? Und wie klein ist er genau
 ? Und strebt das Volk immer nach Gr=C3=B6=C3=9Fe\, weil es aus lauter kleine
 n M=C3=A4nnern besteht? Und das Volk? Was will es? Wei=C3=9F es =C3=BCberha
 upt\, was es will? Oder was es ist? Und was sagt man ihm? Dem Volk? Nat=C3
 =BCrlich eines: Folgt=E2=80=99s! Denn es gibt einen\, der wei=C3=9F das alle
 s. Schlie=C3=9Flich ist das Volk der Severin! OderSouver=C3=A4n? Egal\, Haup
 tsache Rufzeichen!!!    Das wird eine volkenreiche Begegnung. Mit volkigen 
 Begr=C3=BCndungen.  =0D=0A  Hier bleibt nichts volkenlos. Volk-asko verunsicher
 t sozusagen. Hier kommt ein Autokrat zum Knutschen. Einer bei dem die Willk
 =C3=BCr vor der Pflicht kommt.  =0D=0A  Eben einer wie Du und ich.      Seien S
 ie dabei. Wir freuen uns auf Sie!    =0D=0A    Eintrittspreise & Eintritt      
 Regul=C3=A4rer Preis: 22 =E2=82=AC      Erm=C3=A4=C3=9Figung f=C3=BCr Sch
 =C3=BCler und Studenten: 18 =E2=82=AC      Solidarit=C3=A4tsticket: 25 =E2
 =82=AC      Einlass: 19:30 Uhr      Beginn: 20:15 Uhr   =20
URL:https://kalender.karlsruhe.de/db/termine/theater/severin_grobner_ich_bin_das_volk-1
CLASS:PUBLIC
DTSTART:20270220T201500
DTEND:20270220T220000
DTSTAMP:20260209T131207
CATEGORIES:Theater, Tanz
ATTACH:https://kalender.karlsruhe.de/db/termine/theater/severin_grobner_ich_bin_das_volk-1/file/icon_26624CFD-F157-4D4E-96F6-D847F09C8FFF.jpg
END:VEVENT

END:VCALENDAR
