BEGIN:VCALENDAR
VERSION:2.0
CALSCALE:GREGORIAN
PRODID:https://kalender.karlsruhe.de/db/termine/
METHOD:PUBLISH
BEGIN:VEVENT
UID:575516
ORGANIZER;CN=Badisches Staatstheater Karlsruhe:MAILTO:kartenservice@staatstheater.karlsruhe.de
LOCATION:Staatstheater, siehe Beschreibung
SUMMARY:Sichttermin für Pädagog:innen
DESCRIPTION;ENCODING=QUOTED-PRINTABLE:=C2=A0=0D=0A=0D=0A
URL:https://kalender.karlsruhe.de/db/termine/theater/sichttermin_fur_padagoginnen-9
CLASS:PUBLIC
DTSTART:20260603T180000
DTEND:
DTSTAMP:20251011T175632
CATEGORIES:Theater, Tanz
ATTACH:https://kalender.karlsruhe.de/db/termine/theater/sichttermin_fur_padagoginnen-9/file/icon_BSK_Logo_Theater_mit_Schutzraum.jpg
END:VEVENT

END:VCALENDAR
