BEGIN:VCALENDAR
VERSION:2.0
CALSCALE:GREGORIAN
PRODID:https://kalender.karlsruhe.de/db/termine/
METHOD:PUBLISH
BEGIN:VEVENT
UID:580862
ORGANIZER;CN=Badisches Staatstheater Karlsruhe:MAILTO:kartenservice@staatstheater.karlsruhe.de
LOCATION:Staatstheater, siehe Beschreibung
SUMMARY:Sonnenlinien & Blätterkarten -  Ein Zeichenlabor im Freien (Und jetzt! Wochen der Nachhaltigkeit)
DESCRIPTION;ENCODING=QUOTED-PRINTABLE:=C2=A0=0D=0A=0D=0A
URL:https://kalender.karlsruhe.de/db/termine/theater/sonnenlinien_blatterkarten_ein_zeichenlabor
CLASS:PUBLIC
DTSTART:20260526T100000
DTEND:
DTSTAMP:20260413T175532
CATEGORIES:Theater, Tanz
ATTACH:https://kalender.karlsruhe.de/db/termine/theater/sonnenlinien_blatterkarten_ein_zeichenlabor/file/icon_BSK_Logo_Theater_mit_Schutzraum.jpg
END:VEVENT

END:VCALENDAR
