BEGIN:VCALENDAR
VERSION:2.0
CALSCALE:GREGORIAN
PRODID:https://kalender.karlsruhe.de/db/termine/
METHOD:PUBLISH
BEGIN:VEVENT
UID:573548
ORGANIZER;CN=Die Spiegelfechter:MAILTO:info@spiegelfechter.de
LOCATION:Kabarett in der Orgelfabrik - die Spiegelfechter
SUMMARY:Stefan Reusch › Reusch rettet 2026 – Der Jahresrückblick
DESCRIPTION;ENCODING=QUOTED-PRINTABLE:Reusch rettet das kaputte Jahr 2026!=0D=0A=0D=0A                  Dieses Jahr\, 2026
 \, war endlich mal ein tolles Jahr! NEIN. 2026 war endlich mal vorbei.      
  =0D=0A       Das ist das Positive. Der Rest sind die =E2=80=9CDrei gro=C3=9Fen
  T=E2=80=9C: Terror\, Trump und trohende Rechtschreibschw=C3=A4che. Was wird
 ? Nahost? Was wird aus der Achtsamkeit\, der Schuldenbremse\, den Kaulitz-Br
 =C3=BCdern?       =0D=0A       =C3=9Cberall Fragen! Einer gibt Antwort =E2=80
 =94 Reusch. Denn: Reusch rettet das kaputte Jahr 2026!              Der SWR
 3 =E2=80=93Wochenr=C3=BCckblicker hat f=C3=BCr die B=C3=BChne ein fast zwei
 st=C3=BCndiges virenfreies Schutzprogramm entwickelt. Mit sanftem L=C3=A4ch
 eln und gro=C3=9Fer Geistesanwesenheit putzt er darin alles runter\, was ihn
  st=C3=B6rt. Das ist nicht wenig. Und wird bei ihm zu viel Spa=C3=9F.      
         Ob Kanzler\, Kinder oder K=C3=BCnstliche Intelligenz =E2=80=93 Reusc
 h kn=C3=BCpft sie sich alle vor.              Oder wie die Presse es formul
 iert:       =0D=0A       =E2=80=9E               Ein Meisterwerk an sprachliche
 m Timing!              =E2=80=9C (Trierischer Volksfreund)              =E2
 =80=9E               Reuschs Solo ist eine satirische Schlachtplatte aus de
 m Feinkostladen: bissig\, klug und vollgepackt mit Ironie und Sarkasmus     
          =E2=80=9C (Bergstr=C3=A4sser Anzeiger)                Seien Sie da
 bei. Wir freuen uns auf Sie!              =0D=0A              Eintrittspreise &
  Eintritt                Regul=C3=A4rer Preis: 23 =E2=82=AC                
 Erm=C3=A4=C3=9Figung f=C3=BCr Sch=C3=BCler und Studenten: 21 =E2=82=AC     
            Einlass: 19:30 Uhr                Beginn: 20:15 Uh              
  =20
URL:https://kalender.karlsruhe.de/db/termine/theater/stefan_reusch_reusch_rettet_2026_der_jahresruckblick
CLASS:PUBLIC
DTSTART:20270108T201500
DTEND:20270108T220000
DTSTAMP:20260127T083746
CATEGORIES:Theater, Tanz
ATTACH:https://kalender.karlsruhe.de/db/termine/theater/stefan_reusch_reusch_rettet_2026_der_jahresruckblick/file/icon_Bild 1.jpg
END:VEVENT

END:VCALENDAR
