BEGIN:VCALENDAR
VERSION:2.0
CALSCALE:GREGORIAN
PRODID:https://kalender.karlsruhe.de/db/termine/
METHOD:PUBLISH
BEGIN:VEVENT
UID:575922
ORGANIZER;CN=Badisches Staatstheater Karlsruhe:MAILTO:kartenservice@staatstheater.karlsruhe.de
LOCATION:Staatstheater, siehe Beschreibung
SUMMARY:Tanz der Vampire (TheaterFilm)
DESCRIPTION;ENCODING=QUOTED-PRINTABLE:=C2=A0=0D=0A=0D=0A
URL:https://kalender.karlsruhe.de/db/termine/theater/tanz_der_vampire_theaterfilm
CLASS:PUBLIC
DTSTART:20260615T190000
DTEND:
DTSTAMP:20251029T175626
CATEGORIES:Theater, Tanz
ATTACH:https://kalender.karlsruhe.de/db/termine/theater/tanz_der_vampire_theaterfilm/file/icon_BSK_Logo_Theater_mit_Schutzraum.jpg
END:VEVENT

END:VCALENDAR
