BEGIN:VCALENDAR
VERSION:2.0
CALSCALE:GREGORIAN
PRODID:https://kalender.karlsruhe.de/db/termine/
METHOD:PUBLISH
BEGIN:VEVENT
UID:579030
ORGANIZER;CN=marotte Theater:MAILTO:info@marotte-theater.de
LOCATION:marotte Theater
SUMMARY:The Bright Side of Life
DESCRIPTION;ENCODING=QUOTED-PRINTABLE:Monty-Python-Wochenende in der marotte!=0D=0A=0D=0A  Bethlehem. 24. Dezember. W=C3
 =A4hrend man bei der Geburt Christi ganz auf die Karte der unbefleckten Emp
 f=C3=A4ngnis setzt\, gestalten sich die Ereignisse im Nachbarstall\, aufgrund
  folgenschwerer Missverst=C3=A4ndnisse\, noch problematischer. Auch hier erb
 lickt ein Knabe das Licht der Welt. Die Geschichte des Einen ist hinl=C3=A4
 nglich bekannt. Widmen wir uns also ganz dem Schicksal des Anderen\, der sei
 nen Lebensunterhalt mit dem Verkauf von Otternnasen im r=C3=B6mischen Colos
 seum verdienen muss und vom Widerstand gegen die r=C3=B6mischen Besatzer tr
 =C3=A4umt. Die Dinge nehmen unvermeidlich ihren Lauf.   Hier finden in wild
 em Galopp\, skurriler Wortwitz\, schwarzer Humor und unverw=C3=BCstliche Spie
 lfreude ihre Arena.    Regie: Pierre Sch=C3=A4fer    Spiel: Carsten Dittric
 h\, Sebastian Kreutz\, Jan Mixsa =20
URL:https://kalender.karlsruhe.de/db/termine/theater/the_bright_side_of_life
CLASS:PUBLIC
DTSTART:20260509T200000
DTEND:20260509T213000
DTSTAMP:20260223T081140
CATEGORIES:Theater, Tanz
ATTACH:https://kalender.karlsruhe.de/db/termine/theater/the_bright_side_of_life/file/icon_Pressephoto Bright Side of Life Copyright homunculus.jpg
END:VEVENT

END:VCALENDAR
